BEGIN:VCALENDAR
VERSION:2.0
PRODID:-//Dolom-Eat - ECPv6.2.6//NONSGML v1.0//EN
CALSCALE:GREGORIAN
METHOD:PUBLISH
X-WR-CALNAME:Dolom-Eat
X-ORIGINAL-URL:https://www.dolom-eat.it
X-WR-CALDESC:Eventi per Dolom-Eat
REFRESH-INTERVAL;VALUE=DURATION:PT1H
X-Robots-Tag:noindex
X-PUBLISHED-TTL:PT1H
BEGIN:VTIMEZONE
TZID:Europe/Rome
BEGIN:DAYLIGHT
TZOFFSETFROM:+0100
TZOFFSETTO:+0200
TZNAME:CEST
DTSTART:20220327T010000
END:DAYLIGHT
BEGIN:STANDARD
TZOFFSETFROM:+0200
TZOFFSETTO:+0100
TZNAME:CET
DTSTART:20221030T010000
END:STANDARD
END:VTIMEZONE
BEGIN:VEVENT
DTSTART;VALUE=DATE:20220501
DTEND;VALUE=DATE:20220502
DTSTAMP:20260425T140420
CREATED:20220311T144218Z
LAST-MODIFIED:20220426T084352Z
UID:9414-1651363200-1651449599@www.dolom-eat.it
SUMMARY:1 MAGGIO SOTTO LE PALE: IL LAGO DI CALAITA
DESCRIPTION:PROGRAMMA \nPartenza bus gran turismo: \n\nore 5.40 da Padova fronte Tesla (Parcheggio Casello Padova Zona Industriale)\,\nore 6.00 da Fossò Piazza Aldo Moro\nore 6.25 da Marghera check point Panorama\nore 6.50 da Treviso Nord presso distributore Tamoil\n\nArrivo a San Martino di Castrozza dopo una breve sosta lungo il percorso. \nIl percorso è relativamente semplice ma lungo 10 km con un tempo di percorrenza in andata di circa tre ore e un dislivello di circa 220 metri. San Martino di Castrozza (metri 1.400)\, Malga Crel (metri 1.550)\, Forcella Calaita (metri 1.663) lago Calaita (1.620). \nUna volta arrivati al lago di Calaita per chi vuole pic nic o sarà possibile pranzare al Ristorante Miralago per chi ha prenotato  (se siete intenzionati a pranzare al ristorante e non me l’avete detto avvisatemi altrimenti non sono garantiti i posti!!!) \nPost escursione e pranzo tempo per relax al lago o per chi vuole sarà possibile camminare ancora un po’ per salire verso le malghe nei dintorni del lago.\nLa partenza per il rientro direttamente dal lago dove arriverà il nostro bus è alle ore 16.30. Arrivo previsto per le ore 19.30. \nALCUNE INFORMAZIONI: \n\nconsigliati scarponcini da escursionismo\nvestitevi a cipolla sempre in montagna\npranzo al sacco o in ristorante\n\nPREZZO: € 50 \n\ntrasporto dalle località segnalate\naccompagnatore in bus Valentina 3491880402\naccompagnatore di media montagna\nassicurazione infortuni\n\nNon comprende: tutto ciò non menzionato nella voce “comprende” es il pranzo libero e à la carte \nIL PAGAMENTO: \n\ncon bonifico bancario DOLOM-EAT S.A.S DI CONTE VALENTINA & C.   iban : IT86F0845236130030130045168\n satispay\nin agenzia su appuntamento\ndal sito con carta di credito\n\nPENALITA’ DI CANCELLAZIONE una volta saldata la quota:\nLe cancellazioni o le modifiche effettuate fino a 15 giorni prima della data prevista del viaggio comportano l’addebito del 50% della quota.\nLe cancellazioni o le modifiche tardive e la mancata presentazione (No-Show) comportano l’addebito dell’intero importo. \nQualora riuscissimo a “vendere” il vostro posto cancellato oltre i limiti dei 15 giorni prevediamo di restituire l’intera quota a meno di 15€ di spese di istruttoria. \nIn caso di lockdown o mancato raggiungimento del numero di adesioni le quote verranno rimborsate. \n  \nOrganizzazione tecnica: \nDolom-Eat \nAgenzia di Viaggi e Tour Operator \nVia Provinciale Sud 51 – Fossò (VE) \ninfo@dolom-eat.it \n349 1880402 Valentina \nFOTO CREDIT COPERTINA: VISIT TRENTINO \nFoto di Andrea Pizzato
URL:https://www.dolom-eat.it/evento/1-maggio-sotto-le-pale-il-lago-di-calaita/
LOCATION:LAGO DI CALAITA\, Siror\, TN\, 38054
CATEGORIES:Evento
ATTACH;FMTTYPE=image/jpeg:https://www.dolom-eat.it/wp-content/uploads/2022/03/lago-di-calaita-ph-aldo-miele-3-.jpg
ORGANIZER;CN="Dolom-eat":MAILTO:info@dolom-eat.it
END:VEVENT
END:VCALENDAR