BEGIN:VCALENDAR
VERSION:2.0
PRODID:-//Dolom-Eat - ECPv6.2.6//NONSGML v1.0//EN
CALSCALE:GREGORIAN
METHOD:PUBLISH
X-WR-CALNAME:Dolom-Eat
X-ORIGINAL-URL:https://www.dolom-eat.it
X-WR-CALDESC:Eventi per Dolom-Eat
REFRESH-INTERVAL;VALUE=DURATION:PT1H
X-Robots-Tag:noindex
X-PUBLISHED-TTL:PT1H
BEGIN:VTIMEZONE
TZID:Europe/Rome
BEGIN:DAYLIGHT
TZOFFSETFROM:+0100
TZOFFSETTO:+0200
TZNAME:CEST
DTSTART:20210328T010000
END:DAYLIGHT
BEGIN:STANDARD
TZOFFSETFROM:+0200
TZOFFSETTO:+0100
TZNAME:CET
DTSTART:20211031T010000
END:STANDARD
END:VTIMEZONE
BEGIN:VEVENT
DTSTART;VALUE=DATE:20210703
DTEND;VALUE=DATE:20210704
DTSTAMP:20260425T230002
CREATED:20200708T173017Z
LAST-MODIFIED:20210702T150625Z
UID:6069-1625270400-1625356799@www.dolom-eat.it
SUMMARY:ASSAGGI DI DOLOMITI: LA PASSEGGIATA GASTRONOMICA IN VAL FIORENTINA
DESCRIPTION:Cammina e degusta le specialità delle Dolomiti Bellunesi??\nDa Passo Staulanza al Ristoro Belvedere – Cima Fertazza. \nAl cospetto del Civetta e del Pelmo un viaggio tra i sapori! \nPotete lasciare l’auto a Passo Staulanza e scendere verso la Val di Zoldo. All’incrocio tra la statale e il sentiero 561 si prende il sentiero in direzione Malga Fontanafredda. (0.40h). Per chi non ha voglia di camminare  in questo tratto è possibile raggiungere Malga Fontanafredda in auto. \nTAPPE:\n1) A Malga Fontanafredda la prima tappa con l’antipasto di salumi e formaggi fatti proprio in questa fantastica malga. Lungo il percorso incontreremo mucche e caprette che ci faranno compagnia! Da Malga Fontanafredda si prosegue in salita verso Rifugio Fertazza per il sentiero 568 con\n386 mt di dislivello circa (0.50h) \n2) Al Rifugio Fertazza degusteremo un bis di primi tipici ammirando un imponente Pelmo davanti ai nostri occhi.\nRipartiremo poi alla volta del Ristoro Belvedere – Cima Fertazza che raggiungeremo in circa 45 minuti di cammino. \n3)  Al Ristoro Belvedere – Cima Fertazza un panorama a 360 gradi ci immergerà totalmente tra le Dolomiti Bellunesi con una visuale anche sulle adiacenti Dolomiti Trentine e qui degusteremo la specialità polenta e goulash. \nUn po’ di relax per passare un primo pomeriggio in un contesto da favola e poi arriva la bontà più bontà\, la cheesecake! \nDal Ristoro Belvedere si ritorna a Passo Staulanza. \n4) Ci beviamo un caffettino a La Ciasela ammirando il Pelmo? \n5) Ritorniamo a Malga Fontanafredda per concludere in dolcezza con yogurt con i mirtilli o con il miele. \nkm totali 10.5. Dislivello in salita 400 metri. \nPartenza per il rientro alle ore 17 circa. \nPREZZO\nPACCHETTO A: Comprende tutte le tappe bevande incluse €45. \nSapendo che i bambini mangiano sempre quello che vogliono consigliamo alle famiglie di portarli con sé e prendere al momento qualcosa per loro pagando direttamente al rifugio/malga in base al consumo. \n  \nPACCHETTO B : Comprende tutte le tappe + bus €65 \nVerrà organizzato bus da Padova ore 6.00 (Parcheggio Casello Padova Zona Industriale Corso Stati Uniti- fronte Tesla)- Fossó ore 6.15  (Piazza  Tina Anselmi a Sandon di Fossò !!!!  nel navigatore inserire Via Cartile\, 1/6\, 30030 Fossò… la piazza solita di Fossò è chiusa per manifestazione paesana) –  Marghera ore 6.40 (check in Panorama) – Treviso Nord distributore Tamoil  ore 7.00 .\nArrivo previsto a Passo Staulanza alle ore 9.30 circa. Ripartenza bus alle ore 17. 00. \n  \nPREZZO E’ COMPRENSIVO DI:\n\nbus gran turismo andata e ritorno da Padova\, Fossò\, Marghera\, Treviso per Passo Staulanza (per il pacchetto B)\ncolazione con prodotti di malga a Malga Fontanafredda\nbis di primi a Ristoro Fertazza\nsecondo e dolce al Ristoro Belvedere – Cima Fertazza\nyogurt di malga a Malga Fontanafredda\ncaffè al Ristoro La Ciasela\nl’escursione avverrà con un accompagnatore e staremo in gruppo per tutta la durata della giornata.\nassicurazione ESCURSIONISMO DAILY\n\n  \nIL PAGAMENTO: \n\ncon bonifico bancario DOLOM-EAT S.A.S DI CONTE VALENTINA & C.   iban : IT86F0845236130030130045168\nin agenzia lunedì  dalle 9 alle 12 e dalle 15 alle 19.30 in Via Provinciale Sud 51 – Fossò. Pagamento contanti\nsatispay DolomEat-Eat inviando il codice di transazione\nattraverso il sito con carta di credito\n\nPENALITA’ DI CANCELLAZIONE una volta saldata la quota:\nLe cancellazioni o le modifiche effettuate fino a 15 giorni prima della data prevista del viaggio comportano l’addebito del 50% della quota.\nLe cancellazioni o le modifiche tardive e la mancata presentazione (No-Show) comportano l’addebito dell’intero importo. \nQualora riuscissimo a “vendere” il vostro posto cancellato oltre i limiti dei 15 giorni prevediamo di restituire l’intera quota a meno di 15€ di spese di istruttoria. \n!! In caso di tempo incerto o instabile\, pioggia prevista mezza giornata\, 1 ora \, due ore gli eventi Dolom-Eat si terranno lo stesso. Sarà a cura della guida decidere di annullare in caso di meteo seriamente avverso il giorno precedente con il rimborso della quota. \nPreghiamo tutti i gentili clienti di non guardare il meteo se non 24 ore prima e di non fasciarsi la testa una settimana prima. Ad oggi l’affidabilità purtroppo è troppo bassa e poi… la montagna è bellissima anche con qualche goccia di pioggia. \nOrganizzazione tecnica: \nDolom-Eat \nAgenzia di Viaggi e Tour Operator \nVia Provinciale Sud 51 – Fossò (VE) \ninfo@dolom-eat.it \n349 1880402 Valentina
URL:https://www.dolom-eat.it/evento/assaggi-di-dolomiti-la-passeggiata-gastronomica-in-val-fiorentina/
LOCATION:MALGA FONTANAFREDDA\, SELVA DI CADORE\, BL\, 32020
CATEGORIES:Evento
ATTACH;FMTTYPE=image/jpeg:https://www.dolom-eat.it/wp-content/uploads/2020/04/IMG_8517-scaled.jpeg
ORGANIZER;CN="Dolom-eat":MAILTO:info@dolom-eat.it
END:VEVENT
END:VCALENDAR