BEGIN:VCALENDAR
VERSION:2.0
PRODID:-//Dolom-Eat - ECPv6.2.6//NONSGML v1.0//EN
CALSCALE:GREGORIAN
METHOD:PUBLISH
X-WR-CALNAME:Dolom-Eat
X-ORIGINAL-URL:https://www.dolom-eat.it
X-WR-CALDESC:Eventi per Dolom-Eat
REFRESH-INTERVAL;VALUE=DURATION:PT1H
X-Robots-Tag:noindex
X-PUBLISHED-TTL:PT1H
BEGIN:VTIMEZONE
TZID:Europe/Rome
BEGIN:DAYLIGHT
TZOFFSETFROM:+0100
TZOFFSETTO:+0200
TZNAME:CEST
DTSTART:20260329T010000
END:DAYLIGHT
BEGIN:STANDARD
TZOFFSETFROM:+0200
TZOFFSETTO:+0100
TZNAME:CET
DTSTART:20261025T010000
END:STANDARD
END:VTIMEZONE
BEGIN:VEVENT
DTSTART;VALUE=DATE:20260428
DTEND;VALUE=DATE:20260429
DTSTAMP:20260425T163115
CREATED:20240227T084520Z
LAST-MODIFIED:20260413T170624Z
UID:14982-1777334400-1777420799@www.dolom-eat.it
SUMMARY:BARI E GRAVINA IN PUGLIA
DESCRIPTION:Programma \nPartenza da Fossò Piazza Aldo Moro ore 4.00 \nPartenza da Marghera check point Panorama ore 4.20 \nIl transfer avverà con bus gran turismo. \nArrivo in aeroporto\, passaggio ai controlli e tempo libero per colazione in attesa dell’apertura del gate che sarà alle 5.15. \nAlle ore 5.45 partenza per Bari dove arriveremo alle 7.00. \n\n\n\n\n\nDopo una breve sosta per la colazione e servizi\, ci si avvia al centro di Bari per la visita di Bari vecchia. \nInizieremo il nostro tour con una breve sosta esternamente al Castello Normanno Svevo e alla via delle Orecchiette. Continueremo per le vie del centro storico ammirando esternamente la cattedrale di San Sabino e poi raggiungere la Basilica di San Nicola che visiteremo internamente ammirando le opere presenti dell’arte bizantina e barocca e scenderemo anche alla cripta dove sono conservate le reliquie di San Nicola da Myra. \n\n\n\n\n\n\nLa passeggiata continuerà fino alle piazze ma non senza fare prima una sosta allo storico forno dove gustare l’ottima focaccia barese. Arriveremo a piazza mercantile dove troviamo il palazzo del sedile e la colonna infame. Qui consigliata una seconda sosta per un’eccellente panzerotto fritto o gustare la pasticceria barese\, senza esagerare per lasciare spazio al pranzo in tipica trattoria con cucina tradizionale barese subito dopo aver fatto una sosta a piazza del Ferrarese. \nOre 13.00: Pranzo tipico barese a discrezione del partecipante o tempo libero. SCRIVERE NELLE NOTE SE SI VUOLE IL PRANZO IN RISTORANTE\, SI SALDA IL GIORNO STESSO \nPREZZO EXTRA €28\,00 \nBruschette con pomodorini\, rucola e ricotta marzotica \nNodini e prosciutto crudo \nOlive e taralli \nTeglia barese (patate riso e cozze) \nParmigiana vegetariana di melanzane \nSporcamuss (pasta sfoglia con crema pasticciera al limone) \nAcqua e 1/4 vino inclusi \nOre 14.30: Transfer alla volta di Gravina in Puglia\, meravigliosa città con un centro storico dai scenari mozzafiato da lasciare stupore e meraviglia negli occhi degli osservatori.\nLe sue strade\,le chiese\, gli edifici\, il ponte\, le chiese rupestri ci trasporteranno secoli indietro nella storia dove l’uomo viveva in questi luoghi. Un pomeriggio intero a Gravina in Puglia offre un viaggio nel tempo tra architettura rupestre\, ipogei e panorami spettacolari. Punti imperdibili inclusi nella nostra visita guidata sono il Ponte dell’acquedotto e la chiesa della stella (set di James Bond)\, la Gravina Sotterranea\, la Cattedrale\, il rione Fondovico e le chiese rupestri. \n\n\n\n\n\n\nUna volta lasciato il bus\, il nostro tour inizia con la visita di Gravina sotterranea\, un percorso ipogeo che svela antichi passaggi\, cantine e chiese rupestri. \n\n\n\n\n\n\nRaggiungeremo Piazza Notar Domenico dove troviamo una bellissima terrazza che affaccia sull’intera gravina\, esploreremo la Basilica Cattedrale di Santa Maria Assunta risalente al 1092\, nata in stile romanico pugliese e ad oggi ne conserva ancora qualche tratto originario. Faremo ingresso al suggestivo soccorpo o Lamia dei morti (Chiesa di Santa Croce) luogo di sepoltura di vescovi nel periodo del 1500 e a seguire saliremo al campanile. \nContinueremo la nostra passeggiata nel rione antico Fondovico per scoprire la Chiesa di San Michele delle Grotte\, un meraviglioso habitat rupestre il più grande della Puglia\, un’insieme di caverne naturali a 5 navate tra cui una dedicata alla custodia di resti di ossa umane e teschi. \n\n\n\n\n\n\nCi immergeremo nel set hollywoodiano di James Bond attraversando a piedi il maestoso Ponte dell’Acquedotto (Ponte Viadotto) per un suggestivo selfie panoramico. \n\n\n\n\n\n\nContinueremo il nostro viaggio storico visitando la chiesa-grotta rupestre Madonna della Stella e concluderemo con il sito archeologico “Padre Eterno” dove potremo godere di un meraviglioso tramonto. \n\n\n\n\n\n\n18.30: Tempo libero a disposizione prima del rientro a Bari. \n19.50: Transfer in bus all’aeroporto di Bari. \n\n\n\n\n\nPartenza da Bari alle ore 22.20 con volo Ryanair con arrivo a Venezia alle ore 23.35. Rientro a Marghera e Fossò. \nLA QUOTA €180\,00 comprensiva di: \n\nvolo a/r da Venezia Marco Polo a Bari\nbus turistico a disposizione tutto il giorno\nguida turistica tutto il giorno Giorgia\naccompagnatore Dolom-Eat Valentina\ntransfer Fossò\, Marghera\, aeroporto\ningresso Gravina Sotterranea\ningresso campanile della cattedrale\ningresso complesso rupestre della chiesa della stella\ningresso chiesa rupestre di san Michele\nassicurazione infortuni\n\nLa quota è soggetta a variazione tariffaria del volo per cui potrebbe cambiare nei prossimi giorni in base alla variabilità dei prezzi dei voli. \nPer garantire il prezzo odierno prenota il prima possibile! \nRicordiamo che una volta versata LA CAPARRA NON E’ RIMBORSABILE E NON E’ POSSIBILE IL CAMBIO NOME. \nNon sono previsti sconti per chi si reca in aeroporto con mezzi propri. \nINFO AGGIUNTIVE: \n\nnon e’ possibile cambiare nome in quanto il biglietto è personale e nominativo\nmodifiche circa gli orari dei voli o cancellazioni non sono dovuti all’agenzia di viaggio. Se verrà cambiato uno degli orari di andata e ritorno oltre le 3 ore  sarà possibile cancellare il biglietto ed eventualmente riprogrammare l’uscita.\nconsigliate scarpe comode per camminare tutto il giorno\nI posti in aereo sono assegnati casualmente\nRICORDATE LA CARTA D’IDENTITA’ ALTRIMENTI NON VI FANNO SALIRE IN AEREO\nconsigliamo di portare una borraccia o una bottiglia VUOTA\, nei pressi del gate ci sono i refill gratuiti di acqua fresca\ni biglietti dell’aereo verranno inviati via wa qualche giorno prima\, non servirà stamparli ma basterà passare il qr code negli appositi scanner\nuna volta fatta l’adesione\, la settimana prima verrà inviato un messaggio per ricordare il viaggio mentre il giorno precedente ricorderemo le ultime info circa orari ecc.\nsono obbligatorie scarpe comode da ginnastica con un buon carrarmato o da trekking (meglio!)\ninformazioni circa il meteo e le temperature verranno date la settimana precedente\n\nCOME PRENOTARE? \nDal sito: \n\npagando l’intera quota con carta di credito\no scegliendo di pagare la caparra di 100€ e il saldo entro il 25 marzo.\n\n\nbonifico DOLOM-EAT S.A.S DI CONTE VALENTINA & C. iban : IT46V0845236130000000045168\ninviando via mail o via wa il proprio documento d’identità\n\n\n\nNON SI ACCETTANO PROMESSE DI PAGAMENTO. SE VUOI PRENOTARE INVIA COPIA DEL PAGAMENTO DELLA CAPARRA O DELLA QUOTA INTERA (A SCELTA)\, L’AGENZIA NON PRENDE BIGLIETTI SENZA AVERE L’EVIDENZA DEL PAGAMENTO.\n“TIENIMI UN POSTO” NON VALE COME ADESIONE.\n\nPENALITA’ DI CANCELLAZIONE: \nLa cancellazione della prenotazione prevede il 100% di perdita della quota di iscrizione. \n!!! possibilita’ di sottoscrivere polizza annullamento viaggi per malattia /covid  10% della quota di adesione. \n!!!! INFORMAZIONI BAGAGLIO!!! \nIl bagaglio consentito è della grandezza 40*25*20 cm e verrà sistemato sotto al sedile. \n   \n  \nBagagli più grandi sono soggetti a pagamento della maggiorazione a partire da 20€ a tratta per cui misurate bene! \nVi ricordo che non è possibile portare da casa liquidi quali borracce e bottiglie d’acqua a bordo\, al momento dei controlli verranno cestinati. Acqua e altre bevande potranno essere acquistati solo al duty free e nei bar nei pressi del gate. Se necessitate di altri liquidi vi ricordo che devono essere trasportati in un contenitore non superiore a 100 ml. Tutti i liquidi devono essere contenuti in un unico sacchetto di plastica trasparente e richiudibile fino a 20 cm x 20 cm \, con una capacità totale fino a un litro. La borsa deve poi essere posta nel bagaglio. \nINFO AGGIUNTIVE: \n\nScarpe comode per camminare tutto il giorno\nI posti in aereo sono assegnati casualmente (se volete stare vicino a un vostro amico per entrambe le tratte €14 di sovrapprezzo a testa)\nRICORDATE LA CARTA D’IDENTITA’\n\n  \nOrganizzazione tecnica: \nDolom-Eat \nAgenzia di Viaggi e Tour Operator \nVia Provinciale Sud 51 – Fossò (VE) \ninfo@dolom-eat.it \n349 1880402 Valentina \n  \nFoto dal web \n 
URL:https://www.dolom-eat.it/evento/bari-e-gravinainpuglia/
CATEGORIES:Evento
ATTACH;FMTTYPE=image/jpeg:https://www.dolom-eat.it/wp-content/uploads/2024/02/gravina.jpeg
ORGANIZER;CN="Dolom-eat":MAILTO:info@dolom-eat.it
END:VEVENT
END:VCALENDAR