BEGIN:VCALENDAR
VERSION:2.0
PRODID:-//Dolom-Eat - ECPv6.2.6//NONSGML v1.0//EN
CALSCALE:GREGORIAN
METHOD:PUBLISH
X-WR-CALNAME:Dolom-Eat
X-ORIGINAL-URL:https://www.dolom-eat.it
X-WR-CALDESC:Eventi per Dolom-Eat
REFRESH-INTERVAL;VALUE=DURATION:PT1H
X-Robots-Tag:noindex
X-PUBLISHED-TTL:PT1H
BEGIN:VTIMEZONE
TZID:Europe/Rome
BEGIN:DAYLIGHT
TZOFFSETFROM:+0100
TZOFFSETTO:+0200
TZNAME:CEST
DTSTART:20250330T010000
END:DAYLIGHT
BEGIN:STANDARD
TZOFFSETFROM:+0200
TZOFFSETTO:+0100
TZNAME:CET
DTSTART:20251026T010000
END:STANDARD
END:VTIMEZONE
BEGIN:VEVENT
DTSTART;VALUE=DATE:20251212
DTEND;VALUE=DATE:20251213
DTSTAMP:20260421T193821
CREATED:20251002T141028Z
LAST-MODIFIED:20251210T091942Z
UID:22734-1765497600-1765583999@www.dolom-eat.it
SUMMARY:BRUXELLES IN GIORNATA
DESCRIPTION:Partenza con bus gran turismo alle ore: \n\n05.00 da Piazza Aldo Moro a Fossò\n5.15/20 da Marghera check -point panorama.\n\nArrivo all’aeroporto di Treviso e disbrigo delle formalità. \nPer chi arriva in aeroporto ritrovo alle ore 5.45. Partenza con volo Ryanair delle ore 7.00. Arrivo A Bruxelles. \nIncontro con la guida in aeroporto. \nSpostamento con bus gran turismo . Photoshop presso Atomium\, poi il gruppo proseguirà verso il centro storico. \nVisita guidata di Bruxelles fino alle ore 13.00. \nA seguire tempo libero per i mercatini di Natale. \nRientro con bus gran turismo in aeroporto alle ore 17.00. \nAlle ore 18.55 volo da Bruxelles verso Venezia – Treviso. \nAlle ore 20.30 arrivo a Treviso. \nRientro con bus navetta a Fossò e Marghera. \nLA QUOTA 170€ è comprensiva di: \n\ntransfer per l’aeroporto di Treviso da Fossò\nvolo andata e ritorno Treviso – Bruxelles\ntransfer andata e ritorno dall’aeroporto di Bruxelles al centro\nguida turistica certificata\nassicurazione infortuni Outdoor Daily\nnoleggio radioline e auricolari usa e getta\, se avete un paio di auricolari portatoli per rispetto dell’ambiente\naccompagnatore d’agenzia Dolom-Eat Ilenia 333 3543309\n\nNon è compreso il pranzo. NON SONO PREVISTI SCONTI PER CHI RAGGIUNGE L’AEROPORTO CON MEZZI PROPRI. \nPrenotazioni prenotando attraverso il format di adesione e inviando la carta d’identità tramite mail o wa info@dolom-eat.it – 3491880402 VERSANDO LA CAPARRA DI 80€ PER BLOCCARE IL PROPRIO POSTO. LA CAPARRA NON E’ RIMBORSABILE E IL SALDO DOVRA’ AVVENIRE ENTRO IL 12 novembre DOLOM-EAT SAS DI CONTE VALENTINA E C con IBAN IT46V0845236130000000045168 . E’ possibile anche versare direttamente la quota totale. \nSi raccomanda sempre e in ogni caso per tutte le uscite scarpe comode e abbigliamento caldo . \n\nPENALITA’ DI CANCELLAZIONE: \nLa cancellazione della prenotazione prevede il 100% di perdita della quota di iscrizione. NON E’ POSSIBILE CAMBIARE NOME\, IL CAMBIO NOME HA UN COSTO DI 126€. \nPossibilità di stipulare polizza annullamento viaggio circa 10% della quota\, da stipulare al momento della prenotazione. \n!!!! INFORMAZIONI BAGAGLIO!!! \nIl bagaglio consentito è della grandezza 40*25*20 cm e verrà sistemato sotto al sedile. \n   \n  \nBagagli più grandi sono soggetti a pagamento della maggiorazione a partire da 20€ a tratta per cui misurate bene! \nVi ricordo che non è possibile portare da casa liquidi quali borracce e bottiglie d’acqua a bordo\, al momento dei controlli verranno cestinati. Acqua e altre bevande potranno essere acquistati solo al duty free e nei bar nei pressi del gate. Se necessitate di altri liquidi vi ricordo che devono essere trasportati in un contenitore non superiore a 100 ml. Tutti i liquidi devono essere contenuti in un unico sacchetto di plastica trasparente e richiudibile fino a 20 cm x 20 cm \, con una capacità totale fino a un litro. La borsa deve poi essere posta nel bagaglio. \nINFO AGGIUNTIVE: \n\nScarpe comode per camminare tutto il giorno\nI posti in aereo sono assegnati casualmente. SE VOLETE I POSTI VICINI E’ NECESSARIO PAGARE UN SUPPLEMENTO DI 19€ A PERSONA.\nRICORDATE LA CARTA D’IDENTITA\, NON E’ POSSIBILE PRENDERE L’AEREO SENZA\nRicordiamo che nel caso in cui il giorno del viaggio prima della partenza per motivi tecnici/maltempo ecc  ci venisse comunicato che il volo di ritorno fosse cancellato è necessario prendere l’aereo successivo che potrebbe essere 1/2 giorni dopo rispetto il rientro previsto. Ciò comporta rimanere in città. Le spese sostenute potranno poi essere rimborsate dalla compagnia aerea. \n\nOrganizzazione tecnica: \nDolom-Eat \nAgenzia di Viaggi e Tour Operator \nVia Provinciale Sud 51 – Fossò (VE) \ninfo@dolom-eat.it \n349 1880402 Valentina
URL:https://www.dolom-eat.it/evento/bruxelles-in-giornata/
CATEGORIES:Evento
ATTACH;FMTTYPE=image/jpeg:https://www.dolom-eat.it/wp-content/uploads/2025/10/WAFFEL.jpeg
ORGANIZER;CN="Dolom-eat":MAILTO:info@dolom-eat.it
END:VEVENT
END:VCALENDAR