BEGIN:VCALENDAR
VERSION:2.0
PRODID:-//Dolom-Eat - ECPv6.2.6//NONSGML v1.0//EN
CALSCALE:GREGORIAN
METHOD:PUBLISH
X-WR-CALNAME:Dolom-Eat
X-ORIGINAL-URL:https://www.dolom-eat.it
X-WR-CALDESC:Eventi per Dolom-Eat
REFRESH-INTERVAL;VALUE=DURATION:PT1H
X-Robots-Tag:noindex
X-PUBLISHED-TTL:PT1H
BEGIN:VTIMEZONE
TZID:Europe/Rome
BEGIN:DAYLIGHT
TZOFFSETFROM:+0100
TZOFFSETTO:+0200
TZNAME:CEST
DTSTART:20250330T010000
END:DAYLIGHT
BEGIN:STANDARD
TZOFFSETFROM:+0200
TZOFFSETTO:+0100
TZNAME:CET
DTSTART:20251026T010000
END:STANDARD
END:VTIMEZONE
BEGIN:VEVENT
DTSTART;VALUE=DATE:20251002
DTEND;VALUE=DATE:20251003
DTSTAMP:20260421T210614
CREATED:20250811T190027Z
LAST-MODIFIED:20250930T065047Z
UID:21790-1759363200-1759449599@www.dolom-eat.it
SUMMARY:BUDAPEST IN GIORNATA
DESCRIPTION:PROGRAMMA: \nPartenza con bus gran turismo alle ore 4.00 da Fossò Viale dello Sport  e Marghera check point del Panorama ore 4.20. \nArrivo all’aeroporto Marco Polo e disbrigo delle formalità. Partenza con volo Wizz Air delle ore 5.50. \nArrivo a Budapest alle ore 7.10. Da qui con bus privato  raggiungiamo il centro di Budapest. \nBudapest\, capitale dell’Ungheria\, soprannominata la “Parigi dell’Est”\, connubio di tesori del vecchio impero\, folklore\, enogastronomia\, cultura\, fascino e atmosfera suggestiva. Sappiamo che la visita di Budapest necessita sicuramente qualche giorno ma con questo viaggio in giornata vogliamo darvi la possibilità di conoscerla per poi amarla. Visiteremo alcune attrazioni in esterna facendo però anche alcuni ingressi che riteniamo doverosi. \nDurante la giornata faremo un tour panoramico A PIEDI della città tra Buda e Pest: Palazzo Reale\, la città vecchia\, la chiesa di Mattia\, il Bastione dei Pescatori\, il Quartiere della Fortezza\, Il Parlamento\, il Ponte delle Catene. \nENTREREMO PER UNA VISITA SIA AL PARLAMENTO\, SIA ALLA CHIESA DI SAN MATTIA. \nAd orario convenuto torniamo in aeroporto. \nPartenza con volo Ryanair delle ore 20.10 con arrivo a Venezia -Treviso alle ore 21.30. \nRientro con tappe Aeroporto Venezia Marco Polo –  Marghera – Fossò. \nLa giornata non è adatta a persone con mobilità ridotta e problemi di deambulazione. Cammineremo a piedi per la città. \nLA QUOTA 200€ è comprensiva di: \n\ntransfer per l’aeroporto di Venezia da Fossò e Marghera\nvolo andata e ritorno Venezia – Budapest\ntransfer andata e ritorno dall’aeroporto di Budapest al centro di Budapest\nguida turistica certificata all day per la visita della città\nbiglietto ingresso con visita con audioguida in Italiano al Parlamento di Budapest\ningresso alla Chiesa di San Mattia\nassicurazione infortuni Outdoor Daily\nnoleggio radioline e auricolari usa e getta\, se avete un paio di auricolari portatoli per rispetto dell’ambiente\naccompagnatore d’agenzia Dolom-Eat\n\nNon è compreso il pranzo. \nPrenotazioni prenotando attraverso il format di adesione e inviando la carta d’identità tramite mail o wa info@dolom-eat.it – 3491880402 VERSANDO LA CAPARRA DI 100€ PER BLOCCARE IL PROPRIO POSTO. LA CAPARRA NON E’ RIMBORSABILE E IL SALDO DOVRA’ AVVENIRE ENTRO IL 1 settembre DOLOM-EAT SAS DI CONTE VALENTINA E C con IBAN IT46V0845236130000000045168 \nSi raccomanda sempre e in ogni caso per tutte le uscite scarpe comode per le uscite\, no tacchi \, no infradito\, no zeppe\, no sandali . \n\nPENALITA’ DI CANCELLAZIONE: \nLa cancellazione della prenotazione prevede il 100% di perdita della quota di iscrizione. \nPossibilità di stipulare polizza annullamento viaggio circa 10% della quota\, da stipulare al momento della prenotazione. \n!!!! INFORMAZIONI BAGAGLIO!!! \nIl bagaglio consentito è della grandezza 40*25*20 cm e verrà sistemato sotto al sedile. \n   \n  \nBagagli più grandi sono soggetti a pagamento della maggiorazione a partire da 20€ a tratta per cui misurate bene! \nVi ricordo che non è possibile portare da casa liquidi quali borracce e bottiglie d’acqua a bordo\, al momento dei controlli verranno cestinati. Acqua e altre bevande potranno essere acquistati solo al duty free e nei bar nei pressi del gate. Se necessitate di altri liquidi vi ricordo che devono essere trasportati in un contenitore non superiore a 100 ml. Tutti i liquidi devono essere contenuti in un unico sacchetto di plastica trasparente e richiudibile fino a 20 cm x 20 cm \, con una capacità totale fino a un litro. La borsa deve poi essere posta nel bagaglio. \nINFO AGGIUNTIVE: \n\nScarpe comode per camminare tutto il giorno\nI posti in aereo sono assegnati casualmente. SE VOLETE I POSTI VICINI E’ NECESSARIO PAGARE UN SUPPLEMENTO DI 19€ A PERSONA.\nRICORDATE LA CARTA D’IDENTITA\, NON E’ POSSIBILE PRENDERE L’AEREO SENZA\nRicordiamo che nel caso in cui il giorno del viaggio prima della partenza per motivi tecnici/maltempo ecc  ci venisse comunicato che il volo di ritorno fosse cancellato è necessario prendere l’aereo successivo che potrebbe essere 1/2 giorni dopo rispetto il rientro previsto. Ciò comporta rimanere in città. Le spese sostenute potranno poi essere rimborsate dalla compagnia aerea. \n\nOrganizzazione tecnica: \nDolom-Eat \nAgenzia di Viaggi e Tour Operator \nVia Provinciale Sud 51 – Fossò (VE) \ninfo@dolom-eat.it \n349 1880402 Valentina \n 
URL:https://www.dolom-eat.it/evento/budapest-in-giornata/
CATEGORIES:Evento
ATTACH;FMTTYPE=image/jpeg:https://www.dolom-eat.it/wp-content/uploads/2025/08/BUDAPEST.jpeg
END:VEVENT
END:VCALENDAR