BEGIN:VCALENDAR
VERSION:2.0
PRODID:-//Dolom-Eat - ECPv6.2.6//NONSGML v1.0//EN
CALSCALE:GREGORIAN
METHOD:PUBLISH
X-WR-CALNAME:Dolom-Eat
X-ORIGINAL-URL:https://www.dolom-eat.it
X-WR-CALDESC:Eventi per Dolom-Eat
REFRESH-INTERVAL;VALUE=DURATION:PT1H
X-Robots-Tag:noindex
X-PUBLISHED-TTL:PT1H
BEGIN:VTIMEZONE
TZID:Europe/Rome
BEGIN:DAYLIGHT
TZOFFSETFROM:+0100
TZOFFSETTO:+0200
TZNAME:CEST
DTSTART:20250330T010000
END:DAYLIGHT
BEGIN:STANDARD
TZOFFSETFROM:+0200
TZOFFSETTO:+0100
TZNAME:CET
DTSTART:20251026T010000
END:STANDARD
BEGIN:DAYLIGHT
TZOFFSETFROM:+0100
TZOFFSETTO:+0200
TZNAME:CEST
DTSTART:20260329T010000
END:DAYLIGHT
BEGIN:STANDARD
TZOFFSETFROM:+0200
TZOFFSETTO:+0100
TZNAME:CET
DTSTART:20261025T010000
END:STANDARD
END:VTIMEZONE
BEGIN:VEVENT
DTSTART;VALUE=DATE:20251231
DTEND;VALUE=DATE:20260103
DTSTAMP:20260421T172825
CREATED:20250916T094414Z
LAST-MODIFIED:20250924T123432Z
UID:22163-1767139200-1767398399@www.dolom-eat.it
SUMMARY:CAPODANNO AUSTRIACO: 3 GIORNI DI NATURA E FESTA A SALISBURGO
DESCRIPTION:Tante avventure per tre giorni di natura e festa! \nPROGRAMMA: \n31 DICEMBRE 2025 \nPartenza da : \n\nFossò Piazza Aldo Moro ore 6.00\nMarghera check point panorama ore 6.30\nMeolo /Roncade park casello ore 6.50 circa\n\nArrivo a  Schönau am Königssee ai confini tra la Germania e l’Austria. Qui sostiamo per il pranzo salendo in quota alla Jenneralm con una cabinovia a due tronconi. Arrivati in quota un sentiero circolare di 400 metri gira gira intorno alla stazione a monte ci darà una panoramica invernale sulle montagne circostanti.\nAll’interno della stazione è presente l’area espositiva più alta del parco nazionale di Berchtesgaden\, è accessibile per osservare da vicino molti animali locali e apprendere informazioni interessanti sulla flora e la fauna delle montagne circostanti. \nQui sostiamo per il pranzo. Scendiamo poi alla stazione intermedia dove con chi vorrà faremo una passeggiata di 2 km.\nRientro a valle.\nPartenza per Salisburgo e arrivo in hotel.\nCheck in e tempo libero.\n\nI festeggiamenti per il Capodanno si svolgeranno intorno al Duomo. Il mercatino di Natale “Christkindlmarkt”\, allestito nelle piazze Domplatz e Residenzplatz\, per il Capodanno sarà esteso nella piazza Kapitelplatz\, dove ci sarà un grande palco per la musica jazz\, classica e urban music. Sullo schermo saranno proiettati fuochi d’artificio internazionali per creare l’atmosfera giusta per la fatidica mezzanotte. \nA mezzanotte in punto\, Salisburgo si trasformerà in un piccolo mondo fiabesco. Le campane del Duomo di Salisburgo risuoneranno nel cuore della città e la fortezza sarà illuminata da un magnifico spettacolo di fuochi d’artificio. Gli esercizi gastronomici resteranno aperti fino alle ore 01:00. \n\nSu richiesta prenotiamo un locale in centro per cenare\, in base al numero di adesioni vi daremo una proposta per la cena.\n\nDopo la mezzanotte rientro autonomo in hotel a piedi. (1\,3 km dal centro)\n\n\n1 GENNAIO 2026\n\n\nDopo la colazione in hotel alle 11.00 circa partiamo per un piccolo tour dei Laghi del Salisburghese\, in particolare arriviamo da St Gilen\, piccolo borgo con l’affascinante architettura alpina\, le pittoresche stradine e l’atmosfera rilassata: la piazzetta\, con il municipio e la statua di Mozart. Da qui prendiamo il traghetto per Strobl attraversando il Wolfgagnsee\, lago che  si trova a cavallo del territorio di Salisburgo e quello della regione di Salzkammergut. Arrivati a Strobl una passeggiata di un’ora ci porterà a Sankt Wolfgang im Salzkammergut\, paesino dove il lungolago è ricco di passerelle che congiungono i tanti capanni in legno che si affacciano direttamente sul lago\, nel piccolo e raccolto centro storico tante case riccamente decorate da affreschi di St Wolfgang\, piccole botteghe e la chiesa del Pellegrino\, assolutamente da visitare se sarà aperta. Rientriamo a Strobl con il traghetto fino a St Gilen in venti minuti. \nRientro a Salisburgo in hotel. Cena in birreria in centro che raggiungiamo a piedi. \n\n\n2 GENNAIO 2026 \nDopo la colazione partenza per Fusch am See. Oggi ci aspetta un anello di 11\,3 km con un dislivello di 158 metri\, una passeggiata detox.Siamo ancora nell’area naturale dello Salzkammergut\, un’oasi di verde e specchi d’acqua nel cuore dell’Austria\,  a metà strada da Salisburgo e la località termale di Bad Ischl. Il lago è circondato da basse montagne\, natura incontaminata. Sarà una piacevole scoperta. \nAl termine della passeggiata iniziamo il rientro verso casa\, arrivo previsto per le ore 20 circa. \n\nLA QUOTA €430\,00\n\nLA QUOTA COMPRENDE:\n\nbus gran turismo dalle varie partenze con pedaggi\, vitto e alloggio autista\n2 notti con colazione in camera matrimoniale presso HOLIDAY INN SALZBURG CITY\ncena del 1 gennaio\ncabinovia a Schönau am Königssee\nbiglietti del traghetto per giro dei laghi\naccompagnatore Dolom-Eat Valentina \, numero di telefono utile: 3491880402\n\nNon è compreso:\n– i pasti non compresi nel programma\n– Supplemento singola da €190\,00 disponibilità su richiesta\n– cena capodanno\n– tutto ciò non menzionato nella quota comprende\n\nINFORMAZIONI UTILI E COSA PORTARE:\n– scarpe comode invernali in caso di neve e abbigliamento invernale\n– scarpe da trekking\n– carta d’identità e documenti sempre con sè\n– non sono disponibili camere triple o twin con letti separati\n\nCOME ISCRIVERSI?\nVersando una caparra di 200€ come conferma.\n\nIl saldo entro un mese dalla partenza quindi entro il 30 novembre DOLOM-EAT S.A.S DI CONTE VALENTINA & C.   iban : IT46V0845236130000000045168\n\n\n\n\n\nPENALITA’ DI CANCELLAZIONE una volta saldata la quota:\nLe cancellazioni o le modifiche effettuate fino a 15 giorni prima della data prevista del viaggio comportano l’addebito del 80% della quota.\nLe cancellazioni o le modifiche tardive e la mancata presentazione (No-Show) comportano l’addebito dell’intero importo. \nQualora riuscissimo a “vendere” il vostro posto cancellato oltre i limiti dei 15 giorni prevediamo di restituire l’intera quota a meno di 50€ di spese di istruttoria. \nPossibilità di stipulare polizza assicurativa per annullamento viaggio in fase di adesione :€45 \nOrganizzazione tecnica: \nDolom-Eat \nAgenzia di Viaggi e Tour Operator \nVia Provinciale Sud 51 – Fossò (VE) \ninfo@dolom-eat.it \n349 1880402 Valentina \n\n\n\n  \n 
URL:https://www.dolom-eat.it/evento/capodanno-austriaco-3-giorni-di-natura-e-festa-a-salisburgo/
CATEGORIES:Evento
ATTACH;FMTTYPE=image/jpeg:https://www.dolom-eat.it/wp-content/uploads/2025/09/Silvester-in-Salzburg_03.jpeg
ORGANIZER;CN="Dolom-eat":MAILTO:info@dolom-eat.it
END:VEVENT
END:VCALENDAR