BEGIN:VCALENDAR
VERSION:2.0
PRODID:-//Dolom-Eat - ECPv6.2.6//NONSGML v1.0//EN
CALSCALE:GREGORIAN
METHOD:PUBLISH
X-WR-CALNAME:Dolom-Eat
X-ORIGINAL-URL:https://www.dolom-eat.it
X-WR-CALDESC:Eventi per Dolom-Eat
REFRESH-INTERVAL;VALUE=DURATION:PT1H
X-Robots-Tag:noindex
X-PUBLISHED-TTL:PT1H
BEGIN:VTIMEZONE
TZID:Europe/Rome
BEGIN:DAYLIGHT
TZOFFSETFROM:+0100
TZOFFSETTO:+0200
TZNAME:CEST
DTSTART:20250330T010000
END:DAYLIGHT
BEGIN:STANDARD
TZOFFSETFROM:+0200
TZOFFSETTO:+0100
TZNAME:CET
DTSTART:20251026T010000
END:STANDARD
END:VTIMEZONE
BEGIN:VEVENT
DTSTART;VALUE=DATE:20251227
DTEND;VALUE=DATE:20251228
DTSTAMP:20260421T192345
CREATED:20251102T192507Z
LAST-MODIFIED:20251104T121610Z
UID:23054-1766793600-1766879999@www.dolom-eat.it
SUMMARY:PRESEPI DI COMACCHIO E CESENATICO
DESCRIPTION:IL PROGRAMMA: \nPartenza unica: \n\nda Fossò (Piazza Aldo Moro) ore 08.00\n\nI presepi sull’acqua rappresentano una delle tradizioni natalizie più suggestive e affascinanti di Comacchio. Durante il periodo natalizio\, gli angoli più caratteristici del centro storico si trasformano in un vero e proprio palcoscenico\, dove le scene della Natività prendono vita nelle chiese e sotto le arcate dei principali ponti cittadini. Ogni anno\, i presepi vengono allestiti nei luoghi più strategici del centro storico\, creando un percorso che invita i visitatori a scoprire le meraviglie di questa città sull’acqua. Le ambientazioni dei vari allestimenti\, realizzate artigianalmente\, uniscono tradizione e innovazione\, creando un perfetto equilibrio tra storia e creatività. \nLa Natività accolta sotto i ponti più suggestivi della città \n\nTREPPONTI – tra via Pescheria e piazzale Luca Danese\nPONTE DI BORGO – tra piazzetta Trepponti e via Muratori\nPONTE DEGLI SBIRRI – tra via Agatopisto e via E. Fogli\nPresepe di Betlemme realizzato da un artigiano di Betlemme\ncon legno di ulivo proveniente dalla Terra Santa\nPONTE SAN PIETRO – Via San Pietro\nPONTE DEI SISTI – tra Via Agatopisto e Via A. Buonafede\nPONTE DEI GEROMITI – Via A. Buonafede\nPONTE PASQUALONE – Via Cavour\nPONTE DEL TEATRO – tra Via Cavour e Via G. Carducci\nPONTE DEL CARMINE – Via G. Carducci\nIMBARCAZIONE COMACINA – Canale Maggiore\, Via E. Fogli\nPONTE NUOVO A.N.M.I. – Via Marina\, Via dello Squero\nAREA CORTILIVA DELLA MANIFATTURA DEI MARINATI – Via Mazzini presepe naturalistico di Enrico Menegatti\n\nPRESEPI DELLA TRADIZIONE\nSAGRATO DELLA CONCATTEDRALE – Piazza XX Settembre\nPresepe in legno di Giglio Zarattini e Riccardo Buonafede\, con ambientazione valliva \nCONCATTEDRALE di Comacchio\, Presepe storico settecentesco\nPresepi diorami presso la Cappella dei Sacchi.\nRiflessioni in occasione dell’ottavo centenario del Presepe di Greccio.\nCHIESA dei CADUTI – Via Cavour\nCHIESA del S. ROSARIO – Via Sambertolo \nProgetto coordinato da ASCOM Confcommercio Imprese per l’Italia della Provincia di Ferrara\n\nQui tempo libero per la visita autonoma di Comacchio e per il pranzo libero.\nDopo pranzo ritrovo dei partecipanti e partenza per Cesenatico.\n\nArrivo a Cesenatico e visita libera del Presepe allestito sulle imbarcazioni della Sezione Galleggiante del Museo della Marineria che si trova nel tratto più antico del Porto Canale ridisegnato da Leonardo Da Vinci e risiede su dieci barche\, che rappresentano le tipologie tradizionali del mare\, con le caratteristiche decorazioni e gli “occhi” di prua. In totale le statue del Presepe oggi sono oltre cinquanta\, scolpite in legno di cirmolo. Gli abiti sono realizzati in tela e i voluminosi drappeggi sono ottenuti grazie a uno strato di cera pennellata a caldo. Il risultato è di grande effetto ed è reso ancora più suggestivo dalle luci che avvolgono le imbarcazioni. \nSaranno ancora attivi i mercatini di Natale tra cui passeggiare. \nAd orario convenuto partenza per il rientro alle ore 17.30 circa. \nArrivo previsto alle ore 20.00 \n\nQUOTA DI PARTECIPAZIONE € 40\,00 comprensivi di: \n\nbus da Fossò – Padova – Vicenza\naccompagnatore Dolom-Eat Valentina 3491880402\nassicurazione infortuni Outdoor Daily\n\n\n\nPENALITA’ DI CANCELLAZIONE una volta saldata la quota: \nLe cancellazioni o le modifiche effettuate fino a 30 giorni prima della data prevista prevede il rimborso della quota a meno dei 2 € di spese per il rimborso\nLe cancellazioni o le modifiche effettuate fino a 15 giorni prima della data prevista del viaggio comportano l’addebito del 50% della quota.\nLe cancellazioni o le modifiche tardive e la mancata presentazione (No-Show) comportano l’addebito dell’intero importo. \nQualora riuscissimo a “vendere” il vostro posto cancellato oltre i limiti dei 15 giorni prevediamo di restituire l’intera quota a meno di 15€ di spese di istruttoria. \nPRENOTAZIONE E PAGAMENTO: \n\nATTRAVERSO IL SITO\nIN AGENZIA da ottobre\n\nPENALITA’ DI CANCELLAZIONE una volta saldata la quota:\nLe cancellazioni o le modifiche effettuate fino a 15 giorni prima della data prevista del viaggio comportano l’addebito del 50% della quota.\nLe cancellazioni o le modifiche tardive e la mancata presentazione (No-Show) comportano l’addebito dell’intero importo. \nQualora riuscissimo a “vendere” il vostro posto cancellato oltre i limiti dei 15 giorni prevediamo di restituire l’intera quota a meno di 15€ di spese di istruttoria. \n\nIL METEO: \n“Non esiste buono o cattivo tempo\, ma esiste buono e cattivo equipaggiamento”. La montagna si vive sempre a 360° con il bel tempo e con il ” cattivo” tempo. Sole\, pioggia\, neve\, nebbia\, nuvole\, vento. \nLe attività in montagna posso essere annullate per motivi di sicurezza (di circolazione o  pericolo valanghe) ma se non è presente il sole e anche se il paesaggio potrebbe non essere quello che ti aspetti le uscite vengono organizzate ugualmente. \nChi si iscrive a un’uscita Dolom-Eat sia consapevole che la montagna sa regalare suggestioni anche se il tramonto non è così bello e anche se il vento scompiglia i capelli. \nInvitiamo chi non è pronto ad affrontare una giornata non di sole ad astenersi da un’eventuale iscrizione. \nNoi la montagna la amiamo sempre\, in sicurezza ovviamente. \nFaremo di tutto per farvi passare una giornata indimenticabile. \nIN BUS: \n\nla cintura di sicurezza è obbligatoria\ngli zaini di grandi dimensioni devono essere posti nella bagagliera\nall’interno del bus potete portare con voi uno zainetto con i beni necessari per il viaggio\, no bastoncini da trekking o altre cose ingombranti. Gli zaini devono essere riposti nelle cappelliere. Zaini di grandi dimensioni non correttamente posizionati sono sottoposti a multa in caso di controllo della polizia.\ni posti non sono assegnati\, potete sedervi dove preferite chiedendo di lasciare il sedile a fianco a voi libero per gli altri passeggeri che viaggiano da soli.\nPer il viaggio del ritorno vi risiedete nello stesso posto dell’andata per motivi di pulizia e igiene.\nNon si gettano a terra cartacce e fazzoletti di carta\, se ne fate uso quando vi alzate per scendere li gettate nei cestini a metà e all’inizio del bus. Cerchiamo di tenere il mezzo pulito per rispetto degli altri\, di noi stessi e del conducente.\nIn pullman è vietato mangiare\, qualora fosse un bisogno impellete vi preghiamo di non sporcare i sedili.\nPer la quiete del bus vi preghiamo di non urlare o di ascoltare eventuale musica e video con gli auricolari e non con il volume acceso\, i vostri vicini potrebbero non gradire e avere gusti diversi dai vostri.\nChi si siede nella prima fila eviti schiamazzi e di parlare per tutto il tempo per non disturbare il conducente che non è particolarmente interessato alla vostra vita sociale e non.\nPer chi siede nei primi sedili avvisiamo che la temperatura è sempre un po’ più bassa rispetto al resto del mezzo.\nDurante il viaggio è prevista la sosta bagno ma chiediamo la cortesia di andare ai servizi prima di partire da casa e prima di partire per il rientro per non dover effettuare repentine soste. In caso di emergenza il bus comunque si ferma nelle aree di sosta lungo la strada. Il bagno in bus\, se presente\, non può essere utilizzato.\nE’ vietato alzarsi durante il viaggio.\n\n\n\nOrganizzazione tecnica: \nDolom-Eat \nAgenzia di Viaggi e Tour Operator \nVia Provinciale Sud 51 – Fossò (VE) \ninfo@dolom-eat.it \n349 1880402 Valentina
URL:https://www.dolom-eat.it/evento/comacchio-cesenatico/
CATEGORIES:Evento
ATTACH;FMTTYPE=image/jpeg:https://www.dolom-eat.it/wp-content/uploads/2025/11/MG_1204_d283bcad7c.jpeg
ORGANIZER;CN="Dolom-eat":MAILTO:info@dolom-eat.it
END:VEVENT
END:VCALENDAR