BEGIN:VCALENDAR
VERSION:2.0
PRODID:-//Dolom-Eat - ECPv6.2.6//NONSGML v1.0//EN
CALSCALE:GREGORIAN
METHOD:PUBLISH
X-WR-CALNAME:Dolom-Eat
X-ORIGINAL-URL:https://www.dolom-eat.it
X-WR-CALDESC:Eventi per Dolom-Eat
REFRESH-INTERVAL;VALUE=DURATION:PT1H
X-Robots-Tag:noindex
X-PUBLISHED-TTL:PT1H
BEGIN:VTIMEZONE
TZID:Europe/Rome
BEGIN:DAYLIGHT
TZOFFSETFROM:+0100
TZOFFSETTO:+0200
TZNAME:CEST
DTSTART:20220327T010000
END:DAYLIGHT
BEGIN:STANDARD
TZOFFSETFROM:+0200
TZOFFSETTO:+0100
TZNAME:CET
DTSTART:20221030T010000
END:STANDARD
END:VTIMEZONE
BEGIN:VEVENT
DTSTART;TZID=Europe/Rome:20221015T000000
DTEND;TZID=Europe/Rome:20221016T000000
DTSTAMP:20260425T123628
CREATED:20220706T105807Z
LAST-MODIFIED:20220915T125513Z
UID:10170-1665792000-1665878400@www.dolom-eat.it
SUMMARY:DUE GIORNI A NAPOLI
DESCRIPTION:POSTI ESAURITI!!\n\nNapule è mille culure\nNapule è mille paure\nNapule è a voce de’ criature\nChe saglie chianu chianu\nE tu sai ca’ non si sulo\nNapule è nu sole amaro\nNapule è ardore e’ mare\nNapule è na’ carta sporca\nE nisciuno se ne importa\nE ognuno aspetta a’ sciorta\nNapule è na’ camminata\nInt’e viche miezo all’ate\nNapule è tutto nu suonno\nE a’ sape tutto o’ munno\n\nCOSA VEDREMO?\nIncursione nei famosi “Quartieri Spagnoli” e proseguimento per la Napoli Monumentale: P.zza San Ferdinando\, P.zza Plebiscito\, Palazzo Reale\, Real Teatro di San Carlo\, Castel Nuovo e i nuovi scavi archeologici sottostanti.Proseguimento per l’antichissima via Medina\, costeggiando la medioevale e bellissima chiesa di Santa Maria dell’Incoronata. Continuando verso sud est costeggeremo il magnifico palazzo Orsini di Gravina\, La splendida Sant’Anna dei Lombardi ed entreremo nella esoterica P.zza del Gesù\, con la chiesa del Gesù Nuovo e la sua facciata a bugnato. La piazza è l’anticamera a Spaccanpoli\, l’antico decumano inferiore\, ricchissimo di storie e luoghi antichi ed affascinanti: Santa Chiara\, il “Giardino Pompeiano”\, e P.zza San Domenico Maggiore\, con l’obelisco e la chiesa omonima\, adiacente Palazzo di Sangro del Principe di San Severo.. Proseguiremo per il cuore dell’antica Neapolis\, p.zza San Gaetano\, crogiolo di siti d’arte senza eguali\, in particolare San Lorenzo Maggiore\, unico esempio di gotico provenzale in tutto il Meridione d’Italia; San Gregorio Armeno è ad un passo. Un tocco di modernità con la vista dei murales di Bansky. Il “Palazzo dell’Imperatore di Costantinopoli”e gran Finale con via Duomo e San Gennaro.\nDue giorni alla scoperta di Napoli…\n\nPROGRAMMA:\nPartenza con volo da Venezia Marco Polo alle ore 6.30.\n(Il ritrovo in aeroporto è alle ore 5.00 alle partenze di fronte ai varchi dei controlli)\nArrivo all’aeroporto di Napoli alle ore 7.45.\nTransfer per il centro di Napoli.\nGuida all day.\nDurante la giornata Street food O Cuzzetiello.\nPomeriggio guidato.\nTransfer in hotel in centro a Napoli\nSerata in pizzeria.\nNel secondo giorno giornata con guida la mattina.\nPranzo street food trippa e taralli in Pignasecca\nNel pomeriggio libero per visite facoltative. !! Per chi vuole prenotare il Cristo Velato in autonomia dovrà prenotarlo online per il pomeriggio dalle 14 alle 16.00 massimo.\nNel tardo pomeriggio transfer per l’aeroporto.\nPartenza alle ore 20.00 da Napoli con arrivo a Venezia alle ore 21.15.\n\nLA QUOTA di €300\,00 è COMPRENSIVA DI:\n– volo andata e ritorno Venezia Marco Polo – Napoli (con 1 borsa piccola 40*20*25)\n– guida turistica per due giorni\n– transfer a/r aeroporto Napoli/Napoli centro\n– auricolari\n– 1 notte con trattamento B&B in centro a Napoli\n– 2 pranzi street food\n– 1 cena in pizzeria\n– accompagnatore Dolom-Eat Valentina 3491880402\n\n\n\nIl saldo di 150€ : BONIFICO DOLOM-EAT SAS DI CONTE VALENTINA & C. IT46V0845236130000000045168 \n\nNon è compreso:\n– eventuale bagaglio a mano in aggiunta (€40) che sconsigliamo perché non di facile gestione essendo in giro tutto il giorno\n– camera singola su richiesta\n– tassa di soggiorno da saldare direttamente in hotel\n– tutto ciò non menzionato nella voce “la quota è comprensiva di”\n\n\nPENALITA’ DI CANCELLAZIONE: \nLa cancellazione della prenotazione prevede il 100% di perdita della quota di iscrizione. \n!!! Eventuali cambiamenti circa la necessità di greenpass o tampone per il viaggio non comportano il rimborso delle quote nel caso in cui l’iscritto non volesse più partecipare. \n!!!! INFORMAZIONI BAGAGLIO!!! \nIl bagaglio consentito è della grandezza 40*25*20 cm e verrà sistemato sotto al sedile. \n  \n  \nBagagli più grandi sono soggetti a pagamento della maggiorazione a partire da 20€ a tratta per cui misurate bene! \nVi ricordo che non è possibile portare da casa liquidi quali borracce e bottiglie d’acqua a bordo\, al momento dei controlli verranno cestinati. Acqua e altre bevande potranno essere acquistati solo al duty free e nei bar nei pressi del gate. Se necessitate di altri liquidi vi ricordo che devono essere trasportati in un contenitore non superiore a 100 ml. Tutti i liquidi devono essere contenuti in un unico sacchetto di plastica trasparente e richiudibile fino a 20 cm x 20 cm \, con una capacità totale fino a un litro. La borsa deve poi essere posta nel bagaglio. \n  \nOrganizzazione tecnica: \nDolom-Eat \nAgenzia di Viaggi e Tour Operator \nVia Provinciale Sud 51 – Fossò (VE) \ninfo@dolom-eat.it \n349 1880402 Valentina
URL:https://www.dolom-eat.it/evento/due-giorni-a-napoli/
CATEGORIES:Evento
ATTACH;FMTTYPE=image/jpeg:https://www.dolom-eat.it/wp-content/uploads/2022/07/napoliguida.jpg
END:VEVENT
END:VCALENDAR