BEGIN:VCALENDAR
VERSION:2.0
PRODID:-//Dolom-Eat - ECPv6.2.6//NONSGML v1.0//EN
CALSCALE:GREGORIAN
METHOD:PUBLISH
X-WR-CALNAME:Dolom-Eat
X-ORIGINAL-URL:https://www.dolom-eat.it
X-WR-CALDESC:Eventi per Dolom-Eat
REFRESH-INTERVAL;VALUE=DURATION:PT1H
X-Robots-Tag:noindex
X-PUBLISHED-TTL:PT1H
BEGIN:VTIMEZONE
TZID:Europe/Rome
BEGIN:DAYLIGHT
TZOFFSETFROM:+0100
TZOFFSETTO:+0200
TZNAME:CEST
DTSTART:20220327T010000
END:DAYLIGHT
BEGIN:STANDARD
TZOFFSETFROM:+0200
TZOFFSETTO:+0100
TZNAME:CET
DTSTART:20221030T010000
END:STANDARD
END:VTIMEZONE
BEGIN:VEVENT
DTSTART;VALUE=DATE:20221210
DTEND;VALUE=DATE:20221211
DTSTAMP:20260422T103912
CREATED:20221122T100101Z
LAST-MODIFIED:20221205T100451Z
UID:10923-1670630400-1670716799@www.dolom-eat.it
SUMMARY:IL LAGO DI BRAIES GHIACCIATO E I MERCATINI DI SAN CANDIDO
DESCRIPTION:Da anni il nostro tradizionale appuntamento: lo scricchiolio del ghiaccio sotto ai piedi\, le musiche di Natale\, il tè caldo e un vin brulè\, gli ultimi regali di Natale dal cuore dell’Alto Adige\, il Lago di Braies e la meravigliosa San Candido. \n@ Una mattina gourmet con la colazione dolce e salata. \n@ Il Lago di Braies ghiacciato o quasi \n@ I mercatini di Natale a San Candido \nE’ tempo di Natale con l’evento di #DolomEat ! \nPROGRAMMA:\n\nPartenza da Padova Zona Industriale\, parcheggio ingresso Casello autostradale  fronte Tesla ore 7.40\nFossò Piazza Aldo Moro ore 08.00\nMarghera check in Panorama 08.25\nTreviso Nord (distributore Tamoil all’uscita del casello) ore 8.45/50.\n\nFermata nel Cadore per una super colazione dolce e salata che ci darà il benvenuto tra le Dolomiti (sosta di circa un’ora). \nAl termine della colazione\, alle ore 11.30 circa ci dirigiamo verso Braies in circa un’ora e venti di bus.\nArrivo al Lago di Braies alle ore 12.50. circa.\nTempo libero per il giro del Lago per chi lo desidera con il nostro accompagnatore. A Braies sono presenti due self service e un ristorante per chi volesse mangiare qualcosa ma la nostra colazione si farà ancora sentire quindi eventualmente chi vuole smangiucchiare ancora qualcosa sarà possibile anche a Sa Candido. \nAlle ore 14.30 circa partiamo con il nostro bus per San Candido (che raggiungiamo in 30 minuti circa).\nPomeriggio libero a San Candido. Alle ore 17.30 partenza per il rientro. A San Candido vi consigliamo il meraviglioso mondo di Wachtler!! \nGli orari della giornata dipenderanno dall’orario di arrivo a Braies\, in base a questo daremo i tempi  che vi permetteranno di gustare al meglio tutte le destinazioni che andremo a visitare. \nIl rientro è previsto alle ore 21.30 circa. \nPREZZO  € 55\,00 (bambini fino ai 12 anni 40€) comprensivi di : \n\nBus Gran Turismo\nsuper colazione prodotti tipici ( e quando dico super…)\naccompagnatore in bus e durante la giornata Margherita 348 655 6779\nassicurazione infortuni\n\nINFO ABBIGLIAMENTO: a inizio dicembre a Braies fa molto freddo pertanto vi invitiamo a vestirvi a strati\, calzare un paio di scarpe calde. Se pensate di intraprendere il giro del lago (se agibile) dovrete avere scarpe/scarponcini adatti da trekking/escursionismo\, no moonboot\, no scarpe in tela\, no scarpe con tacchetti. \nINFO PRANZO: \nIl pranzo è libero e non compreso\, vi consigliamo si assaggiare i vari prodotti tipici nella varie bancarelle dei mercatini o nei locali di San Candido\, la mattina verrà comunque fatta un’abbondantissima colazione dolce e salata già compresa. \nIL PAGAMENTO: \n\ndal sito scegliendo poi il metodo di pagamento\nin agenzia su appuntamento in Via Provinciale Sud 51 – Fossò. Pagamento contanti o bancomat.\n\nPENALITA’ DI CANCELLAZIONE una volta saldata la quota:\nLe cancellazioni o le modifiche effettuate fino a 15 giorni prima della data prevista del viaggio comportano l’addebito del 50% della quota.\nLe cancellazioni o le modifiche tardive e la mancata presentazione (No-Show) comportano l’addebito dell’intero importo. \nQualora riuscissimo a “vendere” il vostro posto cancellato oltre i limiti dei 15 giorni prevediamo di restituire l’intera quota a meno di 15€ di spese di istruttoria. \n  \nOrganizzazione tecnica: \nDolom-Eat \nAgenzia di Viaggi e Tour Operator \nVia Provinciale Sud 51 – Fossò (VE) \ninfo@dolom-eat.it \n349 1880402 Valentina
URL:https://www.dolom-eat.it/evento/il-lago-di-braies-ghiacciato-e-i-mercatini-di-san-candido-10dicembre/
LOCATION:Lago di Braies\, Lago di Braies\, Braies\, BZ\, 39030\, Italia
CATEGORIES:Evento
ATTACH;FMTTYPE=image/jpeg:https://www.dolom-eat.it/wp-content/uploads/2017/09/IMG_3919.jpg
END:VEVENT
END:VCALENDAR