BEGIN:VCALENDAR
VERSION:2.0
PRODID:-//Dolom-Eat - ECPv6.2.6//NONSGML v1.0//EN
CALSCALE:GREGORIAN
METHOD:PUBLISH
X-WR-CALNAME:Dolom-Eat
X-ORIGINAL-URL:https://www.dolom-eat.it
X-WR-CALDESC:Eventi per Dolom-Eat
REFRESH-INTERVAL;VALUE=DURATION:PT1H
X-Robots-Tag:noindex
X-PUBLISHED-TTL:PT1H
BEGIN:VTIMEZONE
TZID:Europe/Rome
BEGIN:DAYLIGHT
TZOFFSETFROM:+0100
TZOFFSETTO:+0200
TZNAME:CEST
DTSTART:20260329T010000
END:DAYLIGHT
BEGIN:STANDARD
TZOFFSETFROM:+0200
TZOFFSETTO:+0100
TZNAME:CET
DTSTART:20261025T010000
END:STANDARD
END:VTIMEZONE
BEGIN:VEVENT
DTSTART;VALUE=DATE:20260328
DTEND;VALUE=DATE:20260329
DTSTAMP:20260421T135358
CREATED:20260303T172308Z
LAST-MODIFIED:20260328T074128Z
UID:24710-1774656000-1774742399@www.dolom-eat.it
SUMMARY:MERCATINI DI PASQUA A INNSBRUCK E VIPITENO
DESCRIPTION:Partenza ore 6.00 da Fossò Piazza Aldo Moro \nPartenza ore 6.20 da Padova Via Baviera \nPartenza ore 6.40 circa da Vicenza Est park grande centrale \nSosta tecnica lungo il percorso. \nArrivo a Innsbruck e tempo libero per un giro in città ai mercatini di Pasqua. \nIl piccolo ma caratteristico mercatino di Pasqua è costituito da bancarelle colorate al cospetto del Tettuccio d’Oro\, le uovo dipinte a mano\, gli alberelli pasquali  e il folklore musicale. Le fruste degli Aperschnalzer e  le campanelle dei Grasausläuter\, rito rurale che annuncia l’inizio della primavera\, passeggiate lungo il fiume Inn e mostre a tema che si possono visitare come quella nel castello imperiale Hofburg\, Assaggiare le varie specialità stagionali a base di pane lievitato in forme particolari come coniglietti e galline e il Forchaz\, un pane antico dal particolare retrogusto di anice è d’obbligo per entrare nel mood pasquale tirolese. \nAlle ore 14.30 circa trasferimento a Vipiteno di circa un’ora. \nAll’arrivo a Vipiteno tempo libero ai mercatini di Pasqua. \nIl tradizionale Mercatino di Pasqua di Vipiteno avrà luogo in Piazza Città: molti espositori piccoli e grandi\, ma anche organizzazioni locali\, agricoltori e produttori mettono in vendita i loro prodotti regionali e spesso fatti a mano. Il Mercatino di Pasqua segna l’inizio della primavera e offre agli espositori partecipanti l’opportunità di presentare i loro prodotti. \nAlle ore 17.00 partenza per il rientro. \n\nPREZZO € 65\,00 comprende: \n\nbus gran turismo dalle località di partenza\naccompagnatore Dolom-Eat Alberto +39 349 734 9472\nassicurazione infortuni\n\nNon comprende: tutto ciò non menzionato nella voce “comprende” es. pranzo \n\n\n\n\nPRENOTAZIONE E PAGAMENTO: \n\ndal sito scegliendo il metodo di pagamento\nin agenzia\n\n\nPENALITA’ DI CANCELLAZIONE una volta saldata la quota:\nLe cancellazioni o le modifiche effettuate fino a 15 giorni prima della data prevista del viaggio comportano l’addebito del 50% della quota.\nLe cancellazioni o le modifiche tardive e la mancata presentazione (No-Show) comportano l’addebito dell’intero importo. \nQualora riuscissimo a “vendere” il vostro posto cancellato oltre i limiti dei 15 giorni prevediamo di restituire l’intera quota a meno di 15€ di spese di istruttoria. \n\n\n\nIN MONTAGNA: \n\nDOLOM-EAT all’insegna del rispetto per l’ambiente. Se non vi sono cestini i rifiuti si portano a valle quindi si ripongono nei propri zaini\, non si gettano carte e qualsiasi altro rifiuto a terra. Se consumo cibarie e bevande portate da casa non lascio i rifiuti in montagna ma li porto a casa .\nNon si urla lungo i sentieri.\nSi rispetta la presenza delle altre persone.\nViviamo la montagna in modo da trarne beneficio per noi e per gli altri.\nla guida si riserva di cambiare percorso se necessario e lo ritiene opportuno.\n\nIL METEO: \n“Non esiste buono o cattivo tempo\, ma esiste buono e cattivo equipaggiamento”. La montagna si vive sempre a 360° con il bel tempo e con il ” cattivo” tempo. Sole\, pioggia\, neve\, nebbia\, nuvole\, vento. \nLe attività in montagna posso essere annullate per motivi di sicurezza (di circolazione o  pericolo valanghe) ma se non è presente il sole e anche se il paesaggio potrebbe non essere quello che ti aspetti le uscite vengono organizzate ugualmente. \nChi si iscrive a un’uscita Dolom-Eat sia consapevole che la montagna sa regalare suggestioni anche se il tramonto non è così bello e anche se il vento scompiglia i capelli. \nInvitiamo chi non è pronto ad affrontare una giornata non di sole ad astenersi da un’eventuale iscrizione. \nNoi la montagna la amiamo sempre\, in sicurezza ovviamente. \nFaremo di tutto per farvi passare una giornata indimenticabile. \nIN BUS: \n\ni posti non sono assegnati\, potete sedere dove volete riponendo gli zaini sulle cappelliere\, non nei sedili che devono essere liberi per altre persone e non tra le gambe perchè siete in multa per questioni di sicurezza qualora ci fermasse la polizia per un controllo.\nNon si gettano a terra cartacce e fazzoletti di carta\, se ne fate uso quando vi alzate per scendere li gettate nei cestini a metà e all’inizio del bus. Cerchiamo di tenere il mezzo pulito per rispetto degli altri\, di noi stessi e del conducente.\nIn pullman è vietato mangiare\, qualora fosse un bisogno impellete vi preghiamo di non sporcare i sedili.\nPer il viaggio del ritorno vi risiedete nello stesso posto dell’andata.\nPer la quiete del bus vi preghiamo di non urlare o di ascoltare eventuale musica e video con gli auricolari\nChi si siede nei primi sedili eviti schiamazzi per non disturbare il conducente.\nPer chi siede nei primi sedili avvisiamo che la temperatura è sempre un po’ più bassa rispetto al resto del mezzo.\nDurante il viaggio è prevista la sosta bagno ma chiediamo la cortesia di andare ai servizi prima di partire da casa e prima di partire per il rientro per non dover effettuare repentine soste. In caso di emergenza il bus comunque si ferma nelle aree di sosta lungo la strada.\n\n\n\nOrganizzazione tecnica: \nDolom-Eat \nAgenzia di Viaggi e Tour Operator \nVia Provinciale Sud 51 – Fossò (VE) \ninfo@dolom-eat.it \n\n\n  \n\n\n\n 
URL:https://www.dolom-eat.it/evento/mercatini-di-pasqua-a-innsbruck-e-vipiteno/
CATEGORIES:Evento
ATTACH;FMTTYPE=image/jpeg:https://www.dolom-eat.it/wp-content/uploads/2026/03/vipiteno-scaled.jpg
END:VEVENT
END:VCALENDAR