BEGIN:VCALENDAR
VERSION:2.0
PRODID:-//Dolom-Eat - ECPv6.2.6//NONSGML v1.0//EN
CALSCALE:GREGORIAN
METHOD:PUBLISH
X-WR-CALNAME:Dolom-Eat
X-ORIGINAL-URL:https://www.dolom-eat.it
X-WR-CALDESC:Eventi per Dolom-Eat
REFRESH-INTERVAL;VALUE=DURATION:PT1H
X-Robots-Tag:noindex
X-PUBLISHED-TTL:PT1H
BEGIN:VTIMEZONE
TZID:Europe/Rome
BEGIN:DAYLIGHT
TZOFFSETFROM:+0100
TZOFFSETTO:+0200
TZNAME:CEST
DTSTART:20230326T010000
END:DAYLIGHT
BEGIN:STANDARD
TZOFFSETFROM:+0200
TZOFFSETTO:+0100
TZNAME:CET
DTSTART:20231029T010000
END:STANDARD
END:VTIMEZONE
BEGIN:VEVENT
DTSTART;VALUE=DATE:20230418
DTEND;VALUE=DATE:20230419
DTSTAMP:20260421T105120
CREATED:20220406T134705Z
LAST-MODIFIED:20230413T083018Z
UID:9646-1681776000-1681862399@www.dolom-eat.it
SUMMARY:PALERMO in giornata!
DESCRIPTION:PROGRAMMA: \nPartenza alle ore 4.30 da Fossò Piazza Aldo Moro e ore 4.50 a Marghera Check Point Panorama. Si raccomanda la massima puntualità. Eventuali ritardatari non saranno aspettati. Quello segnalato è l’orario di partenza del bus. Per chi arriva in ritardo ci troverà direttamente in aeroporto. \nPartenza da Venezia Marco Polo con volo delle ore 6.30\, arrivo a Palermo alle ore 8.10. \nA Palermo prendiamo i taxi che ci porteranno direttamente in centro. \nAlle ore 9.30 ritrovo con la guida che starà con noi tutta la giornata alla scoperta della città! \nLa Cattedrale\, Piazza Bellini\, Chiesa di San Cataldo\, Chiesa di Santa Maria dell’Ammiraglio\, Fontana della Vergogna e Quattro Canti. Non mancherà il mercato Ballarò\, il più antico mercato alimentare di Palermo\, qui ci delizieremo con lo street food locale e ci lasceremo incantare dalla prelibatezza del cannolo al convento di Santa Caterina d’Alessandria e perché no una granita alla mandorla. Visiteremo il Palazzo Reale e la Cappella Palatina\, passeggeremo al porto ammirando la street art locale. \nSarà una giornata intensa di profumi\, colori\, aromi. \nDurante la visita la guida proporrà per chi vorrà alcuni ingressi ad esempio al punto panoramico di Santa Caterina. \nAlle ore 19.30 circa riprendiamo i taxi per l’aeroporto. \nAlle ore 21.50 partiamo da Palermo arrivando a Venezia alle ore 23.30 circa. Rientro a Marghera e Fossò. \n(!! Come potete vedere hanno modificato l’orario dei voli rispetto agli orari iniziali) \nLA QUOTA di €155\,00 è comprensiva di: \n\nvolo andata e ritorno da Venezia Marco Polo a Palermo\ntransfer andata e ritorno dall’aeroporto di Palermo al centro di Palermo\ntransfer da Fossò e Marghera a/e per APT Venezia\nguida turistica con patentino all day per visita come da descrizione\npranzo itinerante street food al mercato di Palermo\, cannolo e granita\ningressi in programma\nauricolari\naccompagnatrice Dolom-Eat Valentina\nassicurazione infortuni\n\nSi ricorda a tutti che avete versato 115€ e i rimanenti 40€ verranno saldati il giorno del viaggio per i vari servizi (taxi ecc) \nPENALITA’ DI CANCELLAZIONE: \nLa cancellazione della prenotazione prevede il 100% di perdita della quota di iscrizione. \nPossibilità di stipulare polizza annullamento viaggio circa 10% della quota \n!!!! INFORMAZIONI BAGAGLIO!!! \nIl bagaglio consentito è della grandezza 40*25*20 cm e verrà sistemato sotto al sedile. \n   \n  \nBagagli più grandi sono soggetti a pagamento della maggiorazione a partire da 20€ a tratta per cui misurate bene! \nVi ricordo che non è possibile portare da casa liquidi quali borracce e bottiglie d’acqua a bordo\, al momento dei controlli verranno cestinati. Acqua e altre bevande potranno essere acquistati solo al duty free e nei bar nei pressi del gate. Se necessitate di altri liquidi vi ricordo che devono essere trasportati in un contenitore non superiore a 100 ml. Tutti i liquidi devono essere contenuti in un unico sacchetto di plastica trasparente e richiudibile fino a 20 cm x 20 cm \, con una capacità totale fino a un litro. La borsa deve poi essere posta nel bagaglio. \nINFO AGGIUNTIVE: \n\nScarpe comode per camminare tutto il giorno\, abbigliamento a strati\,\nI posti in aereo sono assegnati casualmente\nValentina 3491880402\nRICORDATE LA CARTA D’IDENTITA\n\n  \nOrganizzazione tecnica: \nDolom-Eat \nAgenzia di Viaggi e Tour Operator \nVia Provinciale Sud 51 – Fossò (VE) \ninfo@dolom-eat.it \n349 1880402 Valentina
URL:https://www.dolom-eat.it/evento/palermo-in-giornata-18-aprile/
CATEGORIES:Evento
ATTACH;FMTTYPE=image/jpeg:https://www.dolom-eat.it/wp-content/uploads/2022/03/palermo-1.jpg
END:VEVENT
END:VCALENDAR