BEGIN:VCALENDAR
VERSION:2.0
PRODID:-//Dolom-Eat - ECPv6.2.6//NONSGML v1.0//EN
CALSCALE:GREGORIAN
METHOD:PUBLISH
X-WR-CALNAME:Dolom-Eat
X-ORIGINAL-URL:https://www.dolom-eat.it
X-WR-CALDESC:Eventi per Dolom-Eat
REFRESH-INTERVAL;VALUE=DURATION:PT1H
X-Robots-Tag:noindex
X-PUBLISHED-TTL:PT1H
BEGIN:VTIMEZONE
TZID:Europe/Rome
BEGIN:DAYLIGHT
TZOFFSETFROM:+0100
TZOFFSETTO:+0200
TZNAME:CEST
DTSTART:20230326T010000
END:DAYLIGHT
BEGIN:STANDARD
TZOFFSETFROM:+0200
TZOFFSETTO:+0100
TZNAME:CET
DTSTART:20231029T010000
END:STANDARD
END:VTIMEZONE
BEGIN:VEVENT
DTSTART;VALUE=DATE:20230509
DTEND;VALUE=DATE:20230510
DTSTAMP:20260425T035519
CREATED:20230315T145640Z
LAST-MODIFIED:20230503T163243Z
UID:11894-1683590400-1683676799@www.dolom-eat.it
SUMMARY:PALERMO in giornata!
DESCRIPTION:Partenza alle ore 4.00 da Fossò Piazza Aldo Moro e ore 4.20 a Marghera Check Point Panorama. \nPartenza da Venezia Marco Polo con volo delle ore 05.45\, arrivo a Palermo alle ore 7.20. Qualche minuto libero per i servizi e la colazione. \nA Palermo prendiamo le navette che ci porteranno in centro in circa 40 minuti. \nAlle ore 9.00 ritrovo con la guida che starà con noi tutta la giornata alla scoperta della città! \nLa Cattedrale\, Piazza Bellini\, Chiesa di San Cataldo\, Chiesa di Santa Maria dell’Ammiraglio\, Fontana della Vergogna e Quattro Canti. Non mancherà il mercato Ballarò\, il più antico mercato alimentare di Palermo\, qui ci delizieremo con lo street food locale e ci lasceremo incantare dalla prelibatezza del cannolo al convento di Santa Caterina d’Alessandria e perché no una granita alla mandorla. Visiteremo il Palazzo Reale e la Cappella Palatina\, passeggeremo al porto ammirando la street art locale. \nSarà una giornata intensa di profumi\, colori\, aromi. \nDurante la visita la guida proporrà per chi vorrà alcuni ingressi ad esempio al punto panoramico di Santa Caterina. \nAlle ore 19.00 circa riprendiamo la navetta per l’aeroporto. \nAlle ore 20.55 partiamo da Palermo arrivando a Venezia alle ore 22.30 circa. Rientro a Marghera e Fossò. \n!!! Come avete visto la compagnia aerea  ha modificato gli orari dei voli per cui partiamo e rientriamo prima!!! \nLA QUOTA di €155\,00 è comprensiva di: \n\nvolo andata e ritorno da Venezia Marco Polo a Palermo\ntransfer andata e ritorno dall’aeroporto di Palermo al centro di Palermo\ntransfer da Fossò e Marghera a/e per APT Venezia\nguida turistica con patentino all day per visita come da descrizione\npranzo itinerante street food al mercato di Palermo\, cannolo e granita\ningresso al Palazzo Reale e Cappella Palatina e Chiesa Santa Maria dell’Ammiraglio\nauricolari\naccompagnatrice Dolom-Eat Valentina\nassicurazione infortuni\n\n€115\,00 da versare al momento dell’adesione. \nIl saldo di  40€ verranno consegnati il giorno del viaggio per i vari servizi ingressi ecc)) \nPENALITA’ DI CANCELLAZIONE: \nLa cancellazione della prenotazione prevede il 100% di perdita della quota di iscrizione. \nPossibilità di stipulare polizza annullamento viaggio circa 10% della quota \n!!!! INFORMAZIONI BAGAGLIO!!! \nIl bagaglio consentito è della grandezza 40*25*20 cm e verrà sistemato sotto al sedile. \n   \n  \nBagagli più grandi sono soggetti a pagamento della maggiorazione a partire da 20€ a tratta per cui misurate bene! \nVi ricordo che non è possibile portare da casa liquidi quali borracce e bottiglie d’acqua a bordo\, al momento dei controlli verranno cestinati. Acqua e altre bevande potranno essere acquistati solo al duty free e nei bar nei pressi del gate. Se necessitate di altri liquidi vi ricordo che devono essere trasportati in un contenitore non superiore a 100 ml. Tutti i liquidi devono essere contenuti in un unico sacchetto di plastica trasparente e richiudibile fino a 20 cm x 20 cm \, con una capacità totale fino a un litro. La borsa deve poi essere posta nel bagaglio. \nINFO AGGIUNTIVE: \n\nScarpe comode per camminare tutto il giorno\nI posti in aereo sono assegnati casualmente\nValentina 3491880402\nRICORDATE LA CARTA D’IDENTITA\n\n  \nOrganizzazione tecnica: \nDolom-Eat \nAgenzia di Viaggi e Tour Operator \nVia Provinciale Sud 51 – Fossò (VE) \ninfo@dolom-eat.it \n349 1880402 Valentina
URL:https://www.dolom-eat.it/evento/palermo-in-giornata-9maggio/
CATEGORIES:Evento
ATTACH;FMTTYPE=image/jpeg:https://www.dolom-eat.it/wp-content/uploads/2022/03/palermo-1.jpg
END:VEVENT
END:VCALENDAR