BEGIN:VCALENDAR
VERSION:2.0
PRODID:-//Dolom-Eat - ECPv6.2.6//NONSGML v1.0//EN
CALSCALE:GREGORIAN
METHOD:PUBLISH
X-WR-CALNAME:Dolom-Eat
X-ORIGINAL-URL:https://www.dolom-eat.it
X-WR-CALDESC:Eventi per Dolom-Eat
REFRESH-INTERVAL;VALUE=DURATION:PT1H
X-Robots-Tag:noindex
X-PUBLISHED-TTL:PT1H
BEGIN:VTIMEZONE
TZID:Europe/Rome
BEGIN:DAYLIGHT
TZOFFSETFROM:+0100
TZOFFSETTO:+0200
TZNAME:CEST
DTSTART:20210328T010000
END:DAYLIGHT
BEGIN:STANDARD
TZOFFSETFROM:+0200
TZOFFSETTO:+0100
TZNAME:CET
DTSTART:20211031T010000
END:STANDARD
END:VTIMEZONE
BEGIN:VEVENT
DTSTART;TZID=Europe/Rome:20210529T060000
DTEND;TZID=Europe/Rome:20210530T210000
DTSTAMP:20260426T004957
CREATED:20250418T171016Z
LAST-MODIFIED:20250418T171157Z
UID:20494-1622268000-1622408400@www.dolom-eat.it
SUMMARY:ESCURSIONE ALLA RODA DI VAEL
DESCRIPTION:Partenze: \n\nPadova ore 6.00 parcheggio fronte Tesla Corso stati Uniti\nFossò ore 6.20 Piazza Aldo Moro\n Marghera check point Panorama ore 6.50-\nTreviso Nord ore 7.10 presso distributore Tamoil uscita casello.\n\nLungo il tragitto ci fermiamo per la tappa colazione. \nIncontro con  la nostra guida\, caricati in spalla i nostri zaini\, partiamo da Passo di Costalunga m. 1745\, segnavia 548 – ore 1.30 – dislivello 530 metri.\nSeguendo la strada forestale (segnavia n° 548 – indicazioni Rif. Roda di Vael) si giunge dopo poco al bivio col sentiero 552. Lasciato a sinistra il segnavia 552\, si continua portandosi lungo una zona detritica\, poi per un valloncello\, indi in località Paschè 2005 m. Si guadagna quota con vista crescente raggiungendo la Sella del Ciampàz\, con il vicino belvedere del Ciampàz. Qui sorge lo “storico” Rifugio Roda di Vaèl (2283 mt). \nL’escursione è di facile –  media difficoltà. \nGiunti al Rifugio pranzo libero\, il rifugio è aperto e tempo per arrampicarsi qui e là per fare qualche foto. \nIn base al gruppo sceglieremo la via del ritorno. \nPartenza alle ore 16.30. Rientro previsto per le ore 20/20.30 circa. \nMateriale necessario:\n– scarponcini da escursionismo e calzini idonei alla camminata impermeabili\n– bastoncini da trekking facoltativi\n– abbigliamento consono alla montagna a strati\n– k way/poncho\n– zaino da montagna\, no zainetti\, tracolle ecc\n– borraccia con acqua o termos con qualcosa di caldo\n\n\n\nPREZZO: €60 \nComprende: \n\nbus gran turismo da e per le partenze previste\nassicurazione escursionistica OUTDOOR DAILY\nguide alpine in base al numero di adesioni\naccompagnatore Dolom-Eat\n\n\n\nNon comprende: tutto ciò non menzionato nella voce “comprende” es. pranzo. \n\n\nIL PAGAMENTO e LA PRENOTAZIONE: \n\nDAL SITO SCEGLIENDO LA MODALITA’ DI PAGAMENTO\nIN AGENZIA\n\nPENALITA’ DI CANCELLAZIONE una volta saldata la quota:\nLe cancellazioni o le modifiche effettuate fino a 15 giorni prima della data prevista del viaggio comportano l’addebito del 50% della quota.\nLe cancellazioni o le modifiche tardive e la mancata presentazione (No-Show) comportano l’addebito dell’intero importo. \nQualora riuscissimo a “vendere” il vostro posto cancellato oltre i limiti dei 15 giorni prevediamo di restituire l’intera quota a meno di 15€ di spese di istruttoria. \n\n\n\nIN MONTAGNA: \n\nDOLOM-EAT all’insegna del rispetto per l’ambiente. Se non vi sono cestini i rifiuti si portano a valle quindi si ripongono nei propri zaini\, non si gettano carte e qualsiasi altro rifiuto a terra. Se consumo cibarie e bevande portate da casa non lascio i rifiuti in montagna ma li porto a casa .\nNon si urla lungo i sentieri.\nSi rispetta la presenza delle altre persone.\nViviamo la montagna in modo da trarne beneficio per noi e per gli altri.\nla guida si riserva di cambiare percorso se necessario e lo ritiene opportuno.\n\nIL METEO: \n“Non esiste buono o cattivo tempo\, ma esiste buono e cattivo equipaggiamento”. La montagna si vive sempre a 360° con il bel tempo e con il ” cattivo” tempo. Sole\, pioggia\, neve\, nebbia\, nuvole\, vento. \nLe attività in montagna posso essere annullate per motivi di sicurezza (di circolazione o  pericolo valanghe) ma se non è presente il sole e anche se il paesaggio potrebbe non essere quello che ti aspetti le uscite vengono organizzate ugualmente. \nChi si iscrive a un’uscita Dolom-Eat sia consapevole che la montagna sa regalare suggestioni anche se il tramonto non è così bello e anche se il vento scompiglia i capelli. \nInvitiamo chi non è pronto ad affrontare una giornata non di sole ad astenersi da un’eventuale iscrizione. \nNoi la montagna la amiamo sempre\, in sicurezza ovviamente. \nFaremo di tutto per farvi passare una giornata indimenticabile. \nIN BUS: \n\nla cintura di sicurezza è obbligatoria\ngli zaini di grandi dimensioni devono essere posti nella bagagliera\nall’interno del bus potete portare con voi uno zainetto con i beni necessari per il viaggio\, no bastoncini da trekking o altre cose ingombranti. Gli zaini devono essere riposti nelle cappelliere. Zaini di grandi dimensioni non correttamente posizionati sono sottoposti a multa in caso di controllo della polizia.\ni posti non sono assegnati\, potete sedervi dove preferite chiedendo di lasciare il sedile a fianco a voi libero per gli altri passeggeri che viaggiano da soli.\nPer il viaggio del ritorno vi risiedete nello stesso posto dell’andata per motivi di pulizia e igiene.\nNon si gettano a terra cartacce e fazzoletti di carta\, se ne fate uso quando vi alzate per scendere li gettate nei cestini a metà e all’inizio del bus. Cerchiamo di tenere il mezzo pulito per rispetto degli altri\, di noi stessi e del conducente.\nIn pullman è vietato mangiare\, qualora fosse un bisogno impellete vi preghiamo di non sporcare i sedili.\nPer la quiete del bus vi preghiamo di non urlare o di ascoltare eventuale musica e video con gli auricolari e non con il volume acceso\, i vostri vicini potrebbero non gradire e avere gusti diversi dai vostri.\nChi si siede nella prima fila eviti schiamazzi e di parlare per tutto il tempo per non disturbare il conducente.\nPer chi siede nei primi sedili avvisiamo che la temperatura è sempre un po’ più bassa rispetto al resto del mezzo.\nDurante il viaggio è prevista la sosta bagno ma chiediamo la cortesia di andare ai servizi prima di partire da casa e prima di partire per il rientro per non dover effettuare repentine soste. In caso di emergenza il bus comunque si ferma nelle aree di sosta lungo la strada. Il bagno in bus\, se presente\, non può essere utilizzato con il mezzo in movimento.\nE’ vietato alzarsi durante il viaggio.\n\nOrganizzazione tecnica: \nDolom-Eat \nAgenzia di Viaggi e Tour Operator \nVia Provinciale Sud 51 – Fossò (VE) \ninfo@dolom-eat.it \n349 1880402 Valentina
URL:https://www.dolom-eat.it/evento/rifugio-roda-di-vael/
LOCATION:RIFUGIO RODA DI VAEL\, Sella del Ciampaz\, Vigo di Fassa\, TN\, 38036
CATEGORIES:Evento
ATTACH;FMTTYPE=image/jpeg:https://www.dolom-eat.it/wp-content/uploads/2025/04/roda-di-vael-dolom-eat-scaled.jpg
ORGANIZER;CN="Dolom-eat":MAILTO:info@dolom-eat.it
END:VEVENT
END:VCALENDAR