BEGIN:VCALENDAR
VERSION:2.0
PRODID:-//Dolom-Eat - ECPv6.2.6//NONSGML v1.0//EN
CALSCALE:GREGORIAN
METHOD:PUBLISH
X-WR-CALNAME:Dolom-Eat
X-ORIGINAL-URL:https://www.dolom-eat.it
X-WR-CALDESC:Eventi per Dolom-Eat
REFRESH-INTERVAL;VALUE=DURATION:PT1H
X-Robots-Tag:noindex
X-PUBLISHED-TTL:PT1H
BEGIN:VTIMEZONE
TZID:Europe/Rome
BEGIN:DAYLIGHT
TZOFFSETFROM:+0100
TZOFFSETTO:+0200
TZNAME:CEST
DTSTART:20250330T010000
END:DAYLIGHT
BEGIN:STANDARD
TZOFFSETFROM:+0200
TZOFFSETTO:+0100
TZNAME:CET
DTSTART:20251026T010000
END:STANDARD
END:VTIMEZONE
BEGIN:VEVENT
DTSTART;VALUE=DATE:20251214
DTEND;VALUE=DATE:20251215
DTSTAMP:20260421T172003
CREATED:20250923T132848Z
LAST-MODIFIED:20251210T095904Z
UID:22437-1765670400-1765756799@www.dolom-eat.it
SUMMARY:ROCCHETTA MATTEI E MERCATINI DI NATALE A BOLOGNA
DESCRIPTION:La Rocchetta Mattei porta in sé una storia di “magia” \, miracoli e prodigi! Una costruzione che racconta una storia lunga secoli. Un racconto tutto da scoprire. \n \nPROGRAMMA:\nPartenza alle ore 7.30 da Fossò Piazza Aldo Moro\, ore 7.50 da Padova (parcheggio Padova zona Industriale) fronte Tesla – Corso Stati Uniti . \nArrivo a Rocchetta Mattei e visita guidata. \nLa Rocchetta è una rocca costruita nel XIX secolo\, mescola stili diversi stili dal medievale al moresco. E’ molto particolare e caratteristica\, da visitare perchè molto diversa rispetto ad altri castelli che si trovano in Italia anche per la sua posizione a 407 metri di altitudine sul livello del mare tra le colline dell’Appenino tosco – emiliano. \nAl termine della visita ci spostiamo a Bologna\, per le strade del centro l’atmosfera natalizia riempie le piazze con spirito di festa: il mercatino più antico\, la Fiera di Santa Lucia  sotto uno dei portici più belli e caratteristici\, quello della Chiesa Servi in Strada Maggiore e poi via Altabella\, con la Fiera di Natale: a pochi passi da Piazza Maggiore\, accanto alla Cattedrale di San Pietro.  \nLa Rossa\, la Dotta\, la Grassa\, anche se non ami i mercatini Bologna rimane la città universitaria\, con i portici patrimonio UNESCO\, famosa per il buon cibo! \nAll’arrivo a Bologna tempo libero per pranzo e i mercatini di Natale e una passeggiata in città. \nAlle ore 18.30 circa torniamo verso casa. Il rientro è previsto alle ore 20.00 circa. \nPREZZO: €65 \nComprende: \n\ntrasporto da e per le partenze previste\nvisita guidata e ingresso alla Rocchetta Mattei\naccompagnatore Dolom-Eat ALBERTO +39 349 734 9472\nassicurazione infortuni Outdoor Daily\n\nNon comprende: \n\ntutto ciò non menzionato nella voce “comprende”\n\n\n\nISCRIZIONI: \n\nONLINE\nin agenzia\n\nPENALITA’ DI CANCELLAZIONE una volta saldata la quota:\nLe cancellazioni o le modifiche effettuate fino a 15 giorni prima della data prevista del viaggio comportano l’addebito del 50% della quota.\nLe cancellazioni o le modifiche tardive e la mancata presentazione (No-Show) comportano l’addebito dell’intero importo. \nQualora riuscissimo a “vendere” il vostro posto cancellato oltre i limiti dei 15 giorni prevediamo di restituire l’intera quota a meno di 15€ di spese di istruttoria. \nIN BUS: \n\nla cintura di sicurezza è obbligatoria\ngli zaini di grandi dimensioni devono essere posti nella bagagliera\nall’interno del bus potete portare con voi uno zainetto con i beni necessari per il viaggio\, no bastoncini da trekking o altre cose ingombranti. Gli zaini devono essere riposti nelle cappelliere. Zaini di grandi dimensioni non correttamente posizionati sono sottoposti a multa in caso di controllo della polizia.\ni posti non sono assegnati\, potete sedervi dove preferite chiedendo di lasciare il sedile a fianco a voi libero per gli altri passeggeri che viaggiano da soli.\nPer il viaggio del ritorno vi risiedete nello stesso posto dell’andata per motivi di pulizia e igiene.\nNon si gettano a terra cartacce e fazzoletti di carta\, se ne fate uso quando vi alzate per scendere li gettate nei cestini a metà e all’inizio del bus. Cerchiamo di tenere il mezzo pulito per rispetto degli altri\, di noi stessi e del conducente.\nIn pullman è vietato mangiare\, qualora fosse un bisogno impellete vi preghiamo di non sporcare i sedili.\nPer la quiete del bus vi preghiamo di non urlare o di ascoltare eventuale musica e video con gli auricolari e non con il volume acceso\, i vostri vicini potrebbero non gradire e avere gusti diversi dai vostri.\nChi si siede nella prima fila eviti schiamazzi e di parlare per tutto il tempo per non disturbare il conducente che non è particolarmente interessato alla vostra vita sociale e non.\nPer chi siede nei primi sedili avvisiamo che la temperatura è sempre un po’ più bassa rispetto al resto del mezzo.\nDurante il viaggio è prevista la sosta bagno ma chiediamo la cortesia di andare ai servizi prima di partire da casa e prima di partire per il rientro per non dover effettuare repentine soste. In caso di emergenza il bus comunque si ferma nelle aree di sosta lungo la strada. Il bagno in bus\, se presente\, non può essere utilizzato.\nE’ vietato alzarsi durante il viaggio.\n\nOrganizzazione tecnica: \nDolom-Eat \nAgenzia di Viaggi e Tour Operator \nVia Provinciale Sud 51 – Fossò (VE) \ninfo@dolom-eat.it \n349 1880402 Valentina \n\n\n 
URL:https://www.dolom-eat.it/evento/rocchetta-mattei-e-bologna/
LOCATION:GRIZZANA MORANDI\, Via Rocchetta\, 46A\, GRIZZANA MORANDI\, BO\, 40030\, Italia
CATEGORIES:Evento
ATTACH;FMTTYPE=image/jpeg:https://www.dolom-eat.it/wp-content/uploads/2025/09/IMG_5404.jpg
ORGANIZER;CN="Dolom-eat":MAILTO:info@dolom-eat.it
END:VEVENT
END:VCALENDAR