BEGIN:VCALENDAR
VERSION:2.0
PRODID:-//Dolom-Eat - ECPv6.2.6//NONSGML v1.0//EN
CALSCALE:GREGORIAN
METHOD:PUBLISH
X-WR-CALNAME:Dolom-Eat
X-ORIGINAL-URL:https://www.dolom-eat.it
X-WR-CALDESC:Eventi per Dolom-Eat
REFRESH-INTERVAL;VALUE=DURATION:PT1H
X-Robots-Tag:noindex
X-PUBLISHED-TTL:PT1H
BEGIN:VTIMEZONE
TZID:Europe/Rome
BEGIN:DAYLIGHT
TZOFFSETFROM:+0100
TZOFFSETTO:+0200
TZNAME:CEST
DTSTART:20230326T010000
END:DAYLIGHT
BEGIN:STANDARD
TZOFFSETFROM:+0200
TZOFFSETTO:+0100
TZNAME:CET
DTSTART:20231029T010000
END:STANDARD
END:VTIMEZONE
BEGIN:VEVENT
DTSTART;TZID=Europe/Rome:20230511T000000
DTEND;TZID=Europe/Rome:20230511T000000
DTSTAMP:20260424T043249
CREATED:20230408T113131Z
LAST-MODIFIED:20230508T152650Z
UID:12108-1683763200-1683763200@www.dolom-eat.it
SUMMARY:TAORMINA IN GIORNATA
DESCRIPTION:PROGRAMMA: \n!!! Modifica orari di partenza aereo!!! Tutto anticipato di un’ora. \nPartenza da Fossò ore Piazza Aldo Moro e Marghera check in panorama ore 4.20 con auto condivise. Arrivo all’aeroporto Marco Polo per prendere l’aereo alle ore 5.45 direzione Catania. \nAlle ore 7.30 atterriamo a Catania dove ci attende il nostro bus in direzione Taormina che raggiungiamo in circa un’ora. \nAll’arrivo a Taormina incontro con la guida per visita privata di 4 ore: il Teatro greco\, la Villa Comunale di Taormina\, Il Duomo di Taormina\,  Corso Umberto I\, Palazzo di Santo Stefano\, Piazza IX Aprile\, Porta Messina e Porta Catania. \nNel pomeriggio tempo libero per mangiare qualche tipicità del territorio\, per fare shopping\, per scattare foto qua e là\, per poi ritrovarci alle ore 16 per chi vuole per un giro in barca al costo di 25€  della durata di due ore per visitare i posti più belli della costa: isola Bella\, la Grotta Azzurra\, la Baia di Capo di Taormina\, Baia delle Sirene e Baia di Mazzarò. \nAlle ore 18.40 circa riprendiamo il bus in direzione Catania. \nAlle ore 20.40 partiamo da Catania arrivando a Venezia alle ore 22.30 circa. Rientro a Marghera e Fossò. \nLA QUOTA è comprensiva di: \n\nvolo andata e ritorno da Venezia Marco Polo a Catania\ntransfer andata e ritorno dall’aeroporto di Catania  a Taormina\ntransfer da Fossò e Marghera a/e per APT Venezia con auto condivise\nguida turistica con patentino per visita di 4 ore\nauricolari\naccompagnatrice Dolom-Eat Valentina\nassicurazione infortuni\n\nSono esclusi tutti gli ingressi : al Teatro di Taormina\, a Isola Bella\, il tour in barca ecc e tutto ciò non menzionato nella Quota. \n\ndocumento d’identità\ncon bonifico bancario DOLOM-EAT S.A.S DI CONTE VALENTINA & C.  iban IT46V0845236130000000045168 \n\nPENALITA’ DI CANCELLAZIONE: \nLa cancellazione della prenotazione prevede il 100% di perdita della quota di iscrizione. \nPossibilità di stipulare polizza annullamento viaggio circa 10% della quota \n!!!! INFORMAZIONI BAGAGLIO!!! \nIl bagaglio consentito è della grandezza 40*25*20 cm e verrà sistemato sotto al sedile. \n   \n  \nBagagli più grandi sono soggetti a pagamento della maggiorazione a partire da 20€ a tratta per cui misurate bene! \nVi ricordo che non è possibile portare da casa liquidi quali borracce e bottiglie d’acqua a bordo\, al momento dei controlli verranno cestinati. Acqua e altre bevande potranno essere acquistati solo al duty free e nei bar nei pressi del gate. Se necessitate di altri liquidi vi ricordo che devono essere trasportati in un contenitore non superiore a 100 ml. Tutti i liquidi devono essere contenuti in un unico sacchetto di plastica trasparente e richiudibile fino a 20 cm x 20 cm \, con una capacità totale fino a un litro. La borsa deve poi essere posta nel bagaglio. \nINFO AGGIUNTIVE: \n\nScarpe comode per camminare tutto il giorno\nI posti in aereo sono assegnati casualmente\nValentina 3491880402\nRICORDATE LA CARTA D’IDENTITA\n\nOrganizzazione tecnica: \nDolom-Eat \nAgenzia di Viaggi e Tour Operator \nVia Provinciale Sud 51 – Fossò (VE) \ninfo@dolom-eat.it \n349 1880402 Valentina
URL:https://www.dolom-eat.it/evento/taormina-in-giornata/
CATEGORIES:Evento
ATTACH;FMTTYPE=image/jpeg:https://www.dolom-eat.it/wp-content/uploads/2023/04/89-taormina.jpeg
END:VEVENT
END:VCALENDAR