BEGIN:VCALENDAR
VERSION:2.0
PRODID:-//Dolom-Eat - ECPv6.2.6//NONSGML v1.0//EN
CALSCALE:GREGORIAN
METHOD:PUBLISH
X-WR-CALNAME:Dolom-Eat
X-ORIGINAL-URL:https://www.dolom-eat.it
X-WR-CALDESC:Eventi per Dolom-Eat
REFRESH-INTERVAL;VALUE=DURATION:PT1H
X-Robots-Tag:noindex
X-PUBLISHED-TTL:PT1H
BEGIN:VTIMEZONE
TZID:Europe/Rome
BEGIN:DAYLIGHT
TZOFFSETFROM:+0100
TZOFFSETTO:+0200
TZNAME:CEST
DTSTART:20210328T010000
END:DAYLIGHT
BEGIN:STANDARD
TZOFFSETFROM:+0200
TZOFFSETTO:+0100
TZNAME:CET
DTSTART:20211031T010000
END:STANDARD
END:VTIMEZONE
BEGIN:VEVENT
DTSTART;VALUE=DATE:20210602
DTEND;VALUE=DATE:20210603
DTSTAMP:20260426T004849
CREATED:20210427T114440Z
LAST-MODIFIED:20210526T093352Z
UID:7526-1622592000-1622678399@www.dolom-eat.it
SUMMARY:MILLE VOLTI DI TRIESTE
DESCRIPTION:Siete pronti per dire wow? \nAbbiamo pensato a una giornata ricca di natura\, storia e cultura nella città ponte tra l’Europa occidentale e centro meridionale dove si respira carattere mediterraneo ma anche mitteleuropeo. \nEcco il nostro PROGRAMMA: \nBus gran turismo in partenza alle ore: \nore 7.00 da Padova parcheggio Casello Padova zona industriale fronte Tesla \nore  7.20 da Fossò Piazza Aldo Moro \nore 7.45 /7.50 da Marghera check point Panorama \nsu richiesta ore 8.15  circa da Meolo – Roncade parcheggio del casello autostradale \n\n\n\n\n\nSosta tecnica durante il viaggio. \nAlle ore 10.15 arrivo alla Grotta Gigante. Disbrigo delle formalità per poi addentrarci all’interno della Grotta Gigante per rimanere estasiati dall’immensità di questa cavità. La visita alla Grotta durerà circa un’ora. \nAl termine della visita il bus ci porta nelle vicinanze del centro di Trieste dove lasceremo due ore di tempo libero per la visita alla città\, al porto e per il pranzo. \nAlle ore 13.30 circa   ci troviamo in Piazza Unità d’Italia e da qui partiamo per la nostra passeggiata nel lungomare della Barcola fino al Castello di Miramare. 8 km in circa 1 ora e 45 di tempo. Dopo una passeggiata ai giardini del Castello\, il nostro bus ci porta a Sistiana dove percorreremo il sentiero Rilke 1\,8 km a picco sul mare fino alla Baia di Sistiana. Dopo un po di tempo libero alle 18.00 ripartiamo con il nostro bus verso casa dopo una giornata ricca\, carica e con panorami mozzafiato. \n\n\n\n\n\n“Quota di iscrizione” € 50 comprensiva di: \n\nbus gran turismo da Padova\, Fossò\, Marghera e Meolo-Roncade e per tutti gli spostamenti\naccompagnatore Dolom-Eat Valentina 3491880402\ningresso alla Grotta Gigante\nassicurazione infortuni Outdoor Daily\n\nNon è incluso il pranzo al sacco o nei ristoranti e bar di Trieste e tutto ciò non menzionato nella “quota di iscrizione”. \nINFORMAZIONI UTILI: \n\nvestirsi con abbigliamento comodo\, scarpe da passeggiata/escursionismo\nportare una felpa o giacca per la grotta in quanto all’interno le temperature sono basse\n\nIL PAGAMENTO: \n\ncon bonifico bancario DOLOM-EAT S.A.S DI CONTE VALENTINA & C.   iban : IT86F0845236130030130045168\nin agenzia il lunedì  dalle 9 alle 12 e dalle 15 alle 19.30 in Via Provinciale Sud 51 – Fossò. Pagamento contanti o carte/bancomat\nsatispay Dolom-Eat inviando poi via messaggio il codice di transazione\n\nPENALITA’ DI CANCELLAZIONE una volta saldata la quota:\nLe cancellazioni o le modifiche effettuate fino a 15 giorni prima della data prevista del viaggio comportano l’addebito del 50% della quota.\nLe cancellazioni o le modifiche tardive e la mancata presentazione (No-Show) comportano l’addebito dell’intero importo. \nQualora riuscissimo a “vendere” il vostro posto cancellato oltre i limiti dei 15 giorni prevediamo di restituire l’intera quota a meno di 15€ di spese di istruttoria. \nOrganizzazione tecnica: \nDolom-Eat \nAgenzia di Viaggi e Tour Operator \nVia Provinciale Sud 51 – Fossò (VE) \ninfo@dolom-eat.it \n349 1880402 Valentina
URL:https://www.dolom-eat.it/evento/trieste/
LOCATION:TRIESTE\, Piazza Unità d'Italia\, TRIESTE\, TS
CATEGORIES:Evento
ATTACH;FMTTYPE=image/jpeg:https://www.dolom-eat.it/wp-content/uploads/2021/04/Rilke-1.jpg
END:VEVENT
END:VCALENDAR