BEGIN:VCALENDAR
VERSION:2.0
PRODID:-//Dolom-Eat - ECPv6.2.6//NONSGML v1.0//EN
CALSCALE:GREGORIAN
METHOD:PUBLISH
X-WR-CALNAME:Dolom-Eat
X-ORIGINAL-URL:https://www.dolom-eat.it
X-WR-CALDESC:Eventi per Dolom-Eat
REFRESH-INTERVAL;VALUE=DURATION:PT1H
X-Robots-Tag:noindex
X-PUBLISHED-TTL:PT1H
BEGIN:VTIMEZONE
TZID:Europe/Rome
BEGIN:DAYLIGHT
TZOFFSETFROM:+0100
TZOFFSETTO:+0200
TZNAME:CEST
DTSTART:20230326T010000
END:DAYLIGHT
BEGIN:STANDARD
TZOFFSETFROM:+0200
TZOFFSETTO:+0100
TZNAME:CET
DTSTART:20231029T010000
END:STANDARD
END:VTIMEZONE
BEGIN:VEVENT
DTSTART;TZID=Europe/Rome:20230617T060000
DTEND;TZID=Europe/Rome:20230618T210000
DTSTAMP:20260425T031339
CREATED:20230112T141042Z
LAST-MODIFIED:20230612T130237Z
UID:11245-1686981600-1687122000@www.dolom-eat.it
SUMMARY:UNA NOTTE AL RIFUGIO TISSI
DESCRIPTION:PROGRAMMA \nGIORNO 1. \nPartiamo di buon mattino verso Palafavera con il nostro bus gran turismo: \n\nPadova Parcheggio Padova Zona Industriale fronte Tesla ore 5.40\nFossò ore 6.00 Piazza Aldo Moro\nMarghera ore 6.25 check point Panorama\nTreviso Nord ore 6.40 presso distributore Tamoil\n\nLungo il tragitto ci fermiamo per la tappa colazione. \nAl nostro arrivo a Palafavera carichiamo gli zaini in spalla per partire a piedi verso il Rifugio Tissi. \nIncontrate le guide e ci aspetta un’escursione al cospetto del Pelmo puntando gli occhi verso il nostro amato Civetta. \nDapprima su strada sterrata con i primi 300 metri di dislivello arriviamo a Malga Pioda da dove inizia il verso sentiero che ci porta al Rifugio Coldai con ulteriori 300 metri in costante salita\, solo nell’ultima parte un po’ più ripida. \nAl Rifugio Coldai sosta per il pranzo al sacco o in Rifugio. \nNel primo pomeriggio ripartiamo dapprima con destinazione lago Coldai con 50 metri di dislivello in 15 minuti in salita e altri 10 minuti in discesa. Brevissima sosta per le foto e ripartenza verso il Rifugio Tissi. \nDa qui ci aspettano altre due ore\, dapprima con sali e scendi e poi in salita fino ad arrivare a quota 2281 del nostro Rifugio. \nSpettacolo per l’anima! \nQui ci dividiamo nelle camere e ci prepariamo per la cena. Cena in rifugio dove passeremo la notte. \nGIORNO 2. \nDopo la colazione rimettiamo lo zaino in spalla e verso le 9.00 partiamo in discesa! \nLa discesa è tanta tanta tanta. Le guide\, in base alle capacità del gruppo\, decideranno quale sarà la discesa più adatta: se verso Masarè\, al lago passando per Ciesamatta o se verso il Rifugio Capanna Trieste. La discesa è di 1200 metri di dislivello se arriviamo fino al lago a piedi! \nLa partenza per il rientro è alle ore 17.00 circa. Torneremo a casa verso le 20.30/21.00 \nESCURSIONE DI LIVELLO MEDIO. \nQUOTA DI ISCRIZIONE €160 \n\nbus gran turismo il sabato e la domenica\n1 notte al rifugio TISSI con mezza pensione (pernottamento\, cena\, colazione. Bevande della cena escluse) . Disponibili solo camerate. Si dorme in camere condivise con il gruppo.\naccompagnatore Dolom-Eat Valentina 3491880402\nguide alpine per due giorni\nassicurazione infortuni escurcursionistica Outdoor Daily valevole per 2 giorni\neventuale navetta o biglietto rientro cabinovia in base alla capacità del gruppo per il rientro se necessario\n\nLa quota non comprende tutto ciò non menzionato nella quota comprende ivi compresi: \n\nconsumazioni extra\ni pranzi\nle bevande alla cena\n1€ di tassa di soggiorno da versare al Rifugio\nla doccia\n\nPENALITA’ DI CANCELLAZIONE:\nLe cancellazioni o le modifiche effettuate fino a 15 giorni prima della data prevista del viaggio comportano l’addebito del 50% della quota\nLe cancellazioni o le modifiche tardive e la mancata presentazione (No-Show) comportano l’addebito dell’intero importo. \nQualora riuscissimo a “vendere” il vostro posto cancellato oltre i limiti dei 15 giorni prevediamo di restituire l’intera quota a meno di 40€ di spese di istruttoria. \nAlcune considerazioni sul dormire in rifugio: \n\nSiamo in rifugio\, serve dunque una ottima dose di spirito di adattamento e condivisione degli spazi. Il rifugio non è un hotel\, siamo in alta montagna.\ni bagni sono in comune\nl’utilizzo della doccia è facoltativo e a pagamento €5\nla mezza pensione in rifugio comprende la cena\, il pernottamento e la colazione. Le bevande della cena sono sempre escluse\nsi dorme su letti singoli con coperte ma è obbligatorio l’uso del sacco lenzuolo ed una federa extra per il cuscino. N.b. se avete il saccolenzuolo del piumino che utilizzate a casa ad esempio va bene basta che non sia ingombrante. Cos’è un saccolenzuolo? Da decathlon li vendono a 7\,99€.\nalcune regole per il pernottamento in rifugio in base alle disposizioni sanitarie vigenti:\n* bisogna portare le proprie ciabatte da utilizzare all’interno del rifugio\n* è obbligatorio usare il sacco letto ed una federa extra per il cuscino\n* l’utilizzo dei servizi igienici comuni e delle docce potrebbe essere regolamentato ed effettuato a turno\nSE VI DA FASTIDIO CHI RUSSA portate dei tappi per le orecchie… SE RUSSATE e volete partecipare siate altruisti\, comunicatelo ai partecipanti che potrebbero essere i vostri compagni di stanza e portate i tappi per tutti\, prendete un letto nell’angolo nella stanza\, utilizzate tutto ciò in vostro possesso per non disturbare gli altri\, la notte è importante per essere freschi e riposati. Non è simpatico non dormire.\n\nCONSIGLI :  \nCosa mi metto già addosso:\n– calzini e scarpe da escursionismo\n– pantaloncini corti e canotta o pantaloni lunghi e maglietta in base al meteo \nCosa metto nello zaino:\n– ciabatte (le infradito con il calzino vanno di moda)\n– asciugamano (microfibra occupa meno spazio)\n– poncho (o k way)\n– felpa\n– cambio intimo\n– cambio magliette\n– pantalone lungo e corto\n– occhiali da sole e crema da sole \n– torcia\n– saccolenzuolo e federa\n– giacca (se voglio uscire la sera per le stelle e l’alba)\n– prodotti bagno (se siete in due/tre amici condividete)\n– medicinali vari\n– borraccia già piena\n– carica batteria ed eventuale powerbank\n– documenti e cash (nei rifugi no carte di credito e bancomat perché potrebbe non andare la connessione)\n– maglietta e pantaloni per dormire (ci sono le coperte in camera) Lungo ? Corto? Dipende da voi\n– sacchetto per indumenti sporchi e per rifiuti (i rifiuti si portano a valle) \nVarie ed eventuali:\n– pranzo al sacco (incontriamo comunque rifugi per chi preferisce mangiare local) e snack vari\n– bastoncini da trekking sono utilissimi per la discesa. Non sono obbligatori ma quasi\, vi aiuteranno sicuramente! \n– tappi per gli orecchi ( se non sopportate chi russa)\, cerotti per il naso (se russate altrimenti verrete presi a cuscinate) \n!!!! dormiamo a 2200 metri  e temperature variano in base alle condizioni atmosferiche. Se uscite per far foto all’alba e al tramonto ovvio che vi serve qualcosa di caldo per uscire (piumino leggero o felpa). \nALCUNE CONSIDERAZIONE DELL’ORGANIZZAZIONE: \n\nSCARPE O SCARPONCINI DA TREKKING/ESCURSIONISMO!!!!!!! Per favore non venite con le scarpe da ginnastica. La guida potrà rifiutare l’escursione a chi non si attiene a questa disposizione per motivi di sicurezza. Mi metto già addosso le scarpe? Se volete si\, altrimenti venite in ciabatte e vi cambiate prima di partire oppure con le scarpe e poi ve le infilate nello zaino.\nAbbigliamento consono per l’escursionismo: no jeans\, no giacconi pesanti.\nUNO ZAINO DA TREKKING\, no eastpack\, no tracolle\, no zaini di dubbia utilità. Siamo in montagna perdinci!\n\n  \nCOME ISCRIVERSI: \nVersando la quota di 160€ \n  \nOrganizzazione tecnica: \nDolom-Eat \nAgenzia di Viaggi e Tour Operator \nVia Provinciale Sud 51 – Fossò (VE) \ninfo@dolom-eat.it \n349 1880402 Valentina \n  \nFoto: Rifugio Tissi
URL:https://www.dolom-eat.it/evento/una-notte-in-rifugio/
LOCATION:LAGO COLDAI
CATEGORIES:Evento
ATTACH;FMTTYPE=image/jpeg:https://www.dolom-eat.it/wp-content/uploads/2023/01/rifugio-tissi.jpeg
ORGANIZER;CN="Dolom-eat":MAILTO:info@dolom-eat.it
END:VEVENT
END:VCALENDAR