BEGIN:VCALENDAR
VERSION:2.0
PRODID:-//Dolom-Eat - ECPv6.2.6//NONSGML v1.0//EN
CALSCALE:GREGORIAN
METHOD:PUBLISH
X-WR-CALNAME:Dolom-Eat
X-ORIGINAL-URL:https://www.dolom-eat.it
X-WR-CALDESC:Eventi per Dolom-Eat
REFRESH-INTERVAL;VALUE=DURATION:PT1H
X-Robots-Tag:noindex
X-PUBLISHED-TTL:PT1H
BEGIN:VTIMEZONE
TZID:Europe/Rome
BEGIN:DAYLIGHT
TZOFFSETFROM:+0100
TZOFFSETTO:+0200
TZNAME:CEST
DTSTART:20250330T010000
END:DAYLIGHT
BEGIN:STANDARD
TZOFFSETFROM:+0200
TZOFFSETTO:+0100
TZNAME:CET
DTSTART:20251026T010000
END:STANDARD
END:VTIMEZONE
BEGIN:VEVENT
DTSTART;VALUE=DATE:20250920
DTEND;VALUE=DATE:20250922
DTSTAMP:20260421T210549
CREATED:20250613T120336Z
LAST-MODIFIED:20250915T081406Z
UID:20997-1758326400-1758499199@www.dolom-eat.it
SUMMARY:Week-end toscano: Orbetello in bicicletta e tour in catamarano a Giannutri
DESCRIPTION:SABATO 20 SETTEMBRE \nPartenza ore 5.30 da Fossò Piazza Aldo Moro \nPartenza ore 5.50 da  Padova Zona Industriale fronte Tesla \nSoste lungo il percorso. Arrivo a Orbetello e tempo per il pranzo (leggero! perchè poi si monta in sella). \nRitiriamo le biciclette e iniziamo il nostro percorso. L’anello che abbraccia la laguna di Orbetello è un percorso ciclabile\, in larga parte separato dal traffico veicolare\, che unisce la bellezza selvaggia della Duna di Feniglia allo spettacolo di una delle più importanti Oasi WWF dell’intero bacino del Mediterraneo. \n \nAl termine dei nostri 20 km in bicicletta immersi nella Laguna pochi chilometri in bus ci porteranno al nostro Podere Maremmano per la cena e per la notte. \nPer voi ho scelto Podere Maremma Agri Resort & Spa\, piccolo gioiello nella Maremma a 2 km da Orbetello. Un posto dove rigenerarsi: ambienti moderni con elementi rustici\, una piscina\, una spa e un ristorante immersi nel verde toscano  https://www.poderemaremma.it/ \nQuando arriviamo potete usufruire della piscina esterna o rilassarvi nel parco. \nMenù per la cena: \nPRIMO Tortello maremmano al ragù \nSECONDO Filetto di maiale bardato con millefoglie di patate \nDOLCE Dolce della casa \n¼ di vino a persona\, acqua e caffè incluso. \nDOMENICA 21 SETTEMBRE \nDopo la colazione\, è tempo di partire per una nuova avventura. \nCi spostiamo verso Porto Santo Stefano\, attivo centro commerciale\, peschereccio e balneare. \n \nQui con il nostro catamarano privato inizieremo la nostra giornata: \nVisiteremo Giannutri\, perla dell’Arcipelago Toscano\, che incanta i visitatori con la sua natura selvaggia e un patrimonio storico inestimabile. Un’isola senza strade né auto\, da esplorare passo dopo passo tra rovine romane\, sentieri panoramici e mare cristallino. \nLe due principali spiagge dell’isola: Cala Maestra & Cala Spalmatoio – Ideali per nuotare\, fare snorkeling o semplicemente rilassarsi al sole.\nLe spiagge di Giannutri sono prevalentemente rocciose o in ghiaia\, sono consigliate le scarpette! \nDurante la giornata non mancheranno gli spuntini e un open bar con acqua\, aranciata\, coca cola\, vino bianco e rosso della Maremma. \nAd orario convenuto torniamo a Porto Santo Stefano .\n \nPartenza per il rientro verso casa. Arrivo previsto alle ore 22.30 circa. \nPer questa giornata potete portare uno zainetto con cambio\, asciugamano\, ciabatte ecc utile per la giornata. \nIL PREZZO DI €360\,00 COMPRENDE: \n\nbus gran turismo da Fossò e Padova con autista privato\, parcheggi\, pedaggi e vitto/alloggio autista\nnoleggio bicicletta muscolare\nguida escursionistica per tour in bicicletta\ncena in hotel (vino escluso)\n1 notte presso Podere Maremma\ncolazione presso Podere Maremma\nbarca privata per tour di Giannutri con spuntini durante la giornata con open bar\nassicurazione infortuni\naccompagnatore Dolom-Eat Valentina\n\nLa quota non comprende: tutto ciò non menzionato \nE’ possibile richiedere anche camere triple e quadruple fino ad esaurimento la terza e quarta persona hanno uno sconto di 30€. \n\n\n\n\nPENALITA’ DI CANCELLAZIONE una volta saldata la quota: \n\nPrenotazioni inviando una caparra di €100\,00 (La quota della pratica di €50\,00 inclusa nella caparra in caso di disdetta verrà trattenuta e non rimborsata.)\nSaldo entro il 20 agosto.\n\nUna volta saldata la quota non è rimborsabile oltre il 24 agosto se non per cambio nominativo.\nLe cancellazioni o le modifiche tardive e la mancata presentazione (No-Show) comportano l’addebito dell’intero importo. \n  \nOrganizzazione tecnica: \nDolom-Eat \nAgenzia di Viaggi e Tour Operator \nVia Provinciale Sud 51 – Fossò (VE) \ninfo@dolom-eat.it \n349 1880402 Valentina
URL:https://www.dolom-eat.it/evento/week-end-toscano-orbetello-in-bicicletta-e-tour-in-catamarano-a-giannutri/
CATEGORIES:Evento
ATTACH;FMTTYPE=image/jpeg:https://www.dolom-eat.it/wp-content/uploads/2025/06/Maremma-escursioni-motonave-caletta.jpeg
END:VEVENT
END:VCALENDAR