BEGIN:VCALENDAR
VERSION:2.0
PRODID:-//Dolom-Eat - ECPv6.2.6//NONSGML v1.0//EN
CALSCALE:GREGORIAN
METHOD:PUBLISH
X-WR-CALNAME:Dolom-Eat
X-ORIGINAL-URL:https://www.dolom-eat.it
X-WR-CALDESC:Eventi per Dolom-Eat
REFRESH-INTERVAL;VALUE=DURATION:PT1H
X-Robots-Tag:noindex
X-PUBLISHED-TTL:PT1H
BEGIN:VTIMEZONE
TZID:Europe/Rome
BEGIN:DAYLIGHT
TZOFFSETFROM:+0100
TZOFFSETTO:+0200
TZNAME:CEST
DTSTART:20230326T010000
END:DAYLIGHT
BEGIN:STANDARD
TZOFFSETFROM:+0200
TZOFFSETTO:+0100
TZNAME:CET
DTSTART:20231029T010000
END:STANDARD
END:VTIMEZONE
BEGIN:VEVENT
DTSTART;VALUE=DATE:20230415
DTEND;VALUE=DATE:20230416
DTSTAMP:20260425T052035
CREATED:20230309T134625Z
LAST-MODIFIED:20230411T091236Z
UID:11810-1681516800-1681603199@www.dolom-eat.it
SUMMARY:WINE TOUR A SOAVE
DESCRIPTION:Vi portiamo in un territorio e un vino citato da Goethe in “Viaggio in Italia” già nel 1817. \nDue uve\, la garganega e la durella\, capaci di esprimersi in molte forme dalle bollicine ai grandi passiti. Colline di origine vulcanica che donano una mineralità e una longevità rara. Panorami che riempiono gli occhi\, uomini e donne che da generazioni cullano vini speciali. \nA guidarci lungo la giornata avremo Sergio\, il nostro Sommelier\, appassionato di vini ed in particolare dei viticultori\, per la dedizione al territorio\, terreni\, ecosistema\, meteorologia\, storia\, gastronomia\, pazienza per i risultati. Sergio ci aiuterà ad approfondire con aneddoti e consigli\, insomma una giornata alla scoperta dei più grandi bianchi veneti in pieno stile DolomEat: \n\nuna giornata di risate e compagnia\nla tipicità del buon cibo e la convivialità\nla scoperta del frutto della terra del Soave e dei monti Lessini\nla visita a due cantine\npanorami\npasseggiate nella natura\nun sommelier tutto per noi\n\nPROGRAMMA \nPartenza bus gran turismo: \n\nore 8.20 da Fossò Piazza Aldo Moro\nore 8.40 da Padova Via Baviera\n\nOre 10 arrivo arrivo a Monteforte d’Alpone per una visita ad una azienda superstorica con una cantina speciale. A seguire una importante degustazione di 5 vini\, occasione per scandire tutto lo spettro dell’uva garganega\, dalle bolle al prezioso Recioto di Soave. (Possibilità di acquisto) CANTINA GIANNI TESSARI \nCi spostiamo in bus arrivando ad un pranzo goloso verso le 12.00\, un tagliere del veneto con salumi e formaggi misti\, sottaceti e marmellate\, 200gr a testa di bigoli fatti in casa con vari sughi\, acqua vino e caffè. \nAlle 13.30 iniziamo una camminata in mezzo ai vigneti su colline mozzafiato\, 5km lungo la strada dei 10 capitelli. Strade bianche affiancate dai vigneti lungo le colline del Soave Classico. La posizione fortunata del sentiero ci permetterà di avere una vista a 360° sul territorio\, un’esperienza rilassante a diretto contatto con la natura\, piena di punti panoramici per foto da ricordare. \nOre 15.00 a Roncà nei monti Lessini per una visita ad una azienda incastonata tra le valli scrigno del Durello dove vedremo anche tutta la parte legata alla spumantizzazione. A seguire una importante degustazione di 5 vini con un piccolo abbinamento gastronomico\, approfondiremo bolle charmat\, classiche\, bianchi e un passito. (Possibilità di acquisto) CANTINA GINI \nAlle 16.30/17.00 passeggiata sui sentieri nei pressi della cantina prima di partire per tornare verso casa alle 18.00/18.30. Rientro previsto 19.30/20.00. \nQUOTA €90\,00 comprensiva di: \n\ndue visite guidate in cantina con degustazione di 10 vini\npranzo in ristorante come da menù\, vino e acqua compresi\nbus gran turismo\nSommelier e guida naturalistica\naccompagnatore Dolom-Eat Valentina\nassicurazione infortuni\n\nVi assicuro che sarà una giornata da incorniciare!! \nCONSIGLI SU ABBIGLIAMENTO: \n\nvestirsi come sempre a strati\nil sentiero è su strada sterrata e strada asfaltata. Consigliamo sempre un paio di scarpe con una suola adatta a tutti i tipi di terreni anche umidi camminando tra le vigne\n\nPRENOTAZIONE E PAGAMENTO: \n\ndal sito scegliendo il metodo di pagamento\nin agenzia\n\nPENALITA’ DI CANCELLAZIONE una volta saldata la quota:\nLe cancellazioni o le modifiche effettuate fino a 15 giorni prima della data prevista del viaggio comportano l’addebito del 50% della quota.\nLe cancellazioni o le modifiche tardive e la mancata presentazione (No-Show) comportano l’addebito dell’intero importo. \nQualora riuscissimo a “vendere” il vostro posto cancellato oltre i limiti dei 15 giorni prevediamo di restituire l’intera quota a meno di 15€ di spese di istruttoria. \n  \nOrganizzazione tecnica: \nDolom-Eat \nAgenzia di Viaggi e Tour Operator \nVia Provinciale Sud 51 – Fossò (VE) \ninfo@dolom-eat.it \n349 1880402 Valentina \n\nFoto credit: Sergio Zancanella \n 
URL:https://www.dolom-eat.it/evento/wine-tour-a-soave/
CATEGORIES:Evento
ATTACH;FMTTYPE=image/jpeg:https://www.dolom-eat.it/wp-content/uploads/2023/03/SOAVE.jpg
END:VEVENT
END:VCALENDAR