BEGIN:VCALENDAR
VERSION:2.0
PRODID:-//Dolom-Eat - ECPv6.2.6//NONSGML v1.0//EN
CALSCALE:GREGORIAN
METHOD:PUBLISH
X-WR-CALNAME:Dolom-Eat
X-ORIGINAL-URL:https://www.dolom-eat.it
X-WR-CALDESC:Eventi per Dolom-Eat
REFRESH-INTERVAL;VALUE=DURATION:PT1H
X-Robots-Tag:noindex
X-PUBLISHED-TTL:PT1H
BEGIN:VTIMEZONE
TZID:Europe/Rome
BEGIN:DAYLIGHT
TZOFFSETFROM:+0100
TZOFFSETTO:+0200
TZNAME:CEST
DTSTART:20200329T010000
END:DAYLIGHT
BEGIN:STANDARD
TZOFFSETFROM:+0200
TZOFFSETTO:+0100
TZNAME:CET
DTSTART:20201025T010000
END:STANDARD
BEGIN:DAYLIGHT
TZOFFSETFROM:+0100
TZOFFSETTO:+0200
TZNAME:CEST
DTSTART:20210328T010000
END:DAYLIGHT
BEGIN:STANDARD
TZOFFSETFROM:+0200
TZOFFSETTO:+0100
TZNAME:CET
DTSTART:20211031T010000
END:STANDARD
BEGIN:DAYLIGHT
TZOFFSETFROM:+0100
TZOFFSETTO:+0200
TZNAME:CEST
DTSTART:20220327T010000
END:DAYLIGHT
BEGIN:STANDARD
TZOFFSETFROM:+0200
TZOFFSETTO:+0100
TZNAME:CET
DTSTART:20221030T010000
END:STANDARD
BEGIN:DAYLIGHT
TZOFFSETFROM:+0100
TZOFFSETTO:+0200
TZNAME:CEST
DTSTART:20230326T010000
END:DAYLIGHT
BEGIN:STANDARD
TZOFFSETFROM:+0200
TZOFFSETTO:+0100
TZNAME:CET
DTSTART:20231029T010000
END:STANDARD
BEGIN:DAYLIGHT
TZOFFSETFROM:+0100
TZOFFSETTO:+0200
TZNAME:CEST
DTSTART:20240331T010000
END:DAYLIGHT
BEGIN:STANDARD
TZOFFSETFROM:+0200
TZOFFSETTO:+0100
TZNAME:CET
DTSTART:20241027T010000
END:STANDARD
END:VTIMEZONE
BEGIN:VEVENT
DTSTART;VALUE=DATE:20240629
DTEND;VALUE=DATE:20240630
DTSTAMP:20260421T105019
CREATED:20240321T084213Z
LAST-MODIFIED:20240629T033812Z
UID:15219-1719619200-1719705599@www.dolom-eat.it
SUMMARY:RIFUGIO VANDELLI E IL SORAPIS
DESCRIPTION:PROGRAMMA \nPartenza in bus Gran Turismo: \n\nore 5.40 da Padova Parcheggio Casello “Padova Zona Industriale” fronte Tesla\nore 6.00  Fossó\,Piazza Aldo Moro – supermercato Alì\nore 6.20 da Marghera check in centro commerciale Panorama (Casetta gialla nel rientro della romea)\nore 6.50 Treviso Nord (distributore Tamoil uscita casello autostrada).\n\nSosta tecnica lungo il viaggio a Cima Gogna\, Auronzo. \nITINERARIO: \nSaliamo al Rifugio Vandelli partendo da Passo tre Croci\, un valico che mette in comunicazione Auronzo con Cortina. descrizione da Magico Veneto: \nSi tratta di una escursione relativamente facile\, tutto sommato poco faticosa e di grande soddisfazione.\nIl sentiero è quantomai vario e sempre ben panoramico. Il dislivello è molto contenuto\, circa 200 metri compresi i vari saliscendi\, e la lunghezza poco meno di sei chilometri.\nDetto così può sembrare cosa banale\, ma le sorprese non mancano.\nIl primo tratto è sulla stradina forestale che si dirama poco dopo il passo nel versante di Auronzo.\nBosco bellissimo\, stradina in leggerissima discesa\, bellissime vedute sulle guglie del Cristallo-Popena e\, in lontananza\, su Musurina e le Tre Cime di Lavaredo.\nDopo la languida passeggiata e il guado del ghiaione di un grande vallone\, si cammina su sentiero generalmente pianeggiante\, ma con qualche ripida rampa\, che taglia alti versanti ai piedi di impressionanti crode rocciose dalle grandiose pareti verticali.\nSegue il tratto più impegnativo.\nDopo un paio di ripide rampe il sentiero si affaccia sul profondo vallone del Rio Sorapiss. Seguono alcune scale metalliche per superare dei risalti rocciosi e poi un tratto di qualche centiaio di metri in una stretta cengia pianeggiante attrezzata con cordino metallico.\nNon vi sono vere difficoltà (e non serve il set da ferrata)\, tuttavia impressiona l’esposizione sulla quasi verticale (e profondissima) parete totalmente ricoperta da mugheti.\nServe un minimo di prudenza e concentrazione mai trattando con sufficenza e approssimazione la montagna.\nIl rifugio Vandelli è ormai a portata di mano\, il sentiero in leggera salita s’insinua tra roccioni\, radi larici e grandiose estensioni di mughi.\n Tempo circa 2 ore. \nQui sosta per il pranzo  al sacco o in rifugio (ci raccomandiamo di portare i rifiuti con sé a valle!) \nAlle ore 14.30 partiamo per scendere per il ritorno sullo stesso sentiero dell’andata. \nAlle ore 16.30 siamo in bus pronti per il rientro. \nRientro previsto per le ore 19.30 circa. \nALCUNE INFORMAZIONI: \n\nconsigliate scarpe o scarponcini da escursionismo (se avete i bastoncini da trekking\, potete portarli\, facilitano la discesa sempre).\nvestitevi a cipolla portando sia cose corte ma anche una giacca o felpa\, si passa dal caldo caldo caldo a temperature più fredde quando le nuvole coprono il sole\nportate una coperta da pic nic o un telo per godere del sole nel prato\nportatevi una borraccia d’acqua per l’escursione e qualche snack.\npotete lasciare in bus un cambio per il pomeriggio.\n\n\nPREZZO: €55 \nComprende: \n\nbus gran turismo da e per le partenze previste\nassicurazione escursionistica OUTDOOR DAILY\n2 guide alpine\n\n\n\nNon comprende: tutto ciò non menzionato nella voce “comprende” es. pranzo. \nIL PAGAMENTO e LA PRENOTAZIONE: \n\nDAL SITO SCEGLIENDO LA MODALITA’ DI PAGAMENTO\nIN AGENZIA\n\nPENALITA’ DI CANCELLAZIONE una volta saldata la quota:\nLe cancellazioni o le modifiche effettuate fino a 15 giorni prima della data prevista del viaggio comportano l’addebito del 50% della quota.\nLe cancellazioni o le modifiche tardive e la mancata presentazione (No-Show) comportano l’addebito dell’intero importo. \nQualora riuscissimo a “vendere” il vostro posto cancellato oltre i limiti dei 15 giorni prevediamo di restituire l’intera quota a meno di 15€ di spese di istruttoria. \n\n\n\nIN MONTAGNA: \n\nDOLOM-EAT all’insegna del rispetto per l’ambiente. Se non vi sono cestini i rifiuti si portano a valle quindi si ripongono nei propri zaini\, non si gettano carte e qualsiasi altro rifiuto a terra. Se consumo cibarie e bevande portate da casa non lascio i rifiuti in montagna ma li porto a casa .\nNon si urla lungo i sentieri.\nSi rispetta la presenza delle altre persone.\nViviamo la montagna in modo da trarne beneficio per noi e per gli altri.\n\nIL METEO: \n“Non esiste buono o cattivo tempo\, ma esiste buono e cattivo equipaggiamento”. La montagna si vive sempre a 360° con il bel tempo e con il ” cattivo” tempo. Sole\, pioggia\, neve\, nebbia\, nuvole\, vento. \nLe attività in montagna posso essere annullate per motivi di sicurezza (di circolazione o  pericolo valanghe) ma se non è presente il sole e anche se il paesaggio potrebbe non essere quello che ti aspetti le uscite vengono organizzate ugualmente. \nChi si iscrive a un’uscita Dolom-Eat sia consapevole che la montagna sa regalare suggestioni anche se il tramonto non è così bello e anche se il vento scompiglia i capelli. \nInvitiamo chi non è pronto ad affrontare una giornata non di sole ad astenersi da un’eventuale iscrizione. \nNoi la montagna la amiamo sempre\, in sicurezza ovviamente. \nFaremo di tutto per farvi passare una giornata indimenticabile. \nIN BUS: \n\n i posti non sono assegnati\, potete sedere dove volete riponendo gli zaini sulle cappelliere\, non nei sedili che devono essere liberi per altre persone e non tra le gambe perchè siete in multa per questioni di sicurezza qualora ci fermasse la polizia per un controllo.\nNon si gettano a terra cartacce e fazzoletti di carta\, se ne fate uso quando vi alzate per scendere li gettate nei cestini a metà e all’inizio del bus. Cerchiamo di tenere il mezzo pulito per rispetto degli altri\, di noi stessi e del conducente.\nIn pullman è vietato mangiare\, qualora fosse un bisogno impellete vi preghiamo di non sporcare i sedili.\nPer il viaggio del ritorno vi risiedete nello stesso posto dell’andata.\nPer la quiete del bus vi preghiamo di non urlare o di ascoltare eventuale musica e video con gli auricolari\nChi si siede nei primi sedili eviti schiamazzi per non disturbare il conducente.\nPer chi siede nei primi sedili avvisiamo che la temperatura è sempre un po’ più bassa rispetto al resto del mezzo.\nDurante il viaggio è prevista la sosta bagno ma chiediamo la cortesia di andare ai servizi prima di partire da casa e prima di partire per il rientro per non dover effettuare repentine soste. In caso di emergenza il bus comunque si ferma nelle aree di sosta lungo la strada.\n\n\n\nOrganizzazione tecnica: \nDolom-Eat \nAgenzia di Viaggi e Tour Operator \nVia Provinciale Sud 51 – Fossò (VE) \ninfo@dolom-eat.it \n349 1880402 Valentina
URL:https://www.dolom-eat.it/evento/rifugio-vandelli-e-il-sorapis/
LOCATION:lago di sorapis
CATEGORIES:Evento
ATTACH;FMTTYPE=image/jpeg:https://www.dolom-eat.it/wp-content/uploads/2018/06/IMG_9249-scaled.jpeg
ORGANIZER;CN="Dolom-eat":MAILTO:info@dolom-eat.it
END:VEVENT
BEGIN:VEVENT
DTSTART;VALUE=DATE:20211003
DTEND;VALUE=DATE:20211004
DTSTAMP:20260421T105019
CREATED:20210901T091615Z
LAST-MODIFIED:20210929T072716Z
UID:8233-1633219200-1633305599@www.dolom-eat.it
SUMMARY:RIFUGIO VANDELLI E IL SORAPIS
DESCRIPTION:PROGRAMMA: \nPartenza in bus Gran Turismo ore 5.40 da Padova Parcheggio Casello “Padova Zona Industriale” fronte Tesla – ore 6.00  Fossó\,Piazza Aldo Moro – supermercato Alì\, ore 6.25 da Marghera check in centro commerciale Panorama (Casetta gialla nel rientro della romea)\,  Treviso Nord (distributore Tamoil uscita casello autostrada) ore 6.55. Sosta tecnica lungo il viaggio. \nITINERARIO: \nSaliamo al Rifugio Vandelli partendo da Passo tre Croci\, un valico che mette in comunicazione Auronzo con Cortina. descrizione da Magico Veneto: \nSi tratta di una escursione relativamente facile\, tutto sommato poco faticosa e di grande soddisfazione.\nIl sentiero è quantomai vario e sempre ben panoramico. Il dislivello è molto contenuto\, circa 200 metri compresi i vari saliscendi\, e la lunghezza poco meno di sei chilometri.\nDetto così può sembrare cosa banale\, ma le sorprese non mancano.\nIl primo tratto è sulla stradina forestale che si dirama poco dopo il passo nel versante di Auronzo.\nBosco bellissimo\, stradina in leggerissima discesa\, bellissime vedute sulle guglie del Cristallo-Popena e\, in lontananza\, su Musurina e le Tre Cime di Lavaredo.\nDopo la languida passeggiata e il guado del ghiaione di un grande vallone\, si cammina su sentiero generalmente pianeggiante\, ma con qualche ripida rampa\, che taglia alti versanti ai piedi di impressionanti crode rocciose dalle grandiose pareti verticali.\nSegue il tratto più impegnativo.\nDopo un paio di ripide rampe il sentiero si affaccia sul profondo vallone del Rio Sorapiss. Seguono alcune scale metalliche per superare dei risalti rocciosi e poi un tratto di qualche centiaio di metri in una stretta cengia pianeggiante attrezzata con cordino metallico.\nNon vi sono vere difficoltà (e non serve il set da ferrata)\, tuttavia impressiona l’esposizione sulla quasi verticale (e profondissima) parete totalmente ricoperta da mugheti.\nServe un minimo di prudenza e concentrazione mai trattando con sufficenza e approssimazione la montagna.\nIl rifugio Vandelli è ormai a portata di mano\, il sentiero in leggera salita s’insinua tra roccioni\, radi larici e grandiose estensioni di mughi.\n Tempo circa 2 ore. \nQui sosta per il pranzo  al sacco (ci raccomandiamo di portare i rifiuti con sé a valle!) \nAlle ore 14.00 partiamo per scendere per il ritorno sullo stesso sentiero dell’andata. \nAlle ore 16.30 siamo in bus pronti per il rientro. \n  \n!!! Il lago si sta svuotando a causa delle temperature più rigide in quota che non permettono fortunatamente lo sciogliersi del ghiacciaio per cui il lago potrebbe avere dimensioni ridotte!!! \nALCUNE INFORMAZIONI: \n\nconsigliate scarpe o scarponcini da escursionismo (se avete i bastoncini da trekking\, potete portarli\, facilitano la discesa sempre).\nvestitevi a cipolla portando sia cose corte ma anche una giacca o felpa\, si passa dal caldo caldo caldo a temperature più fredde quando le nuvole coprono il sole\nportate una coperta da pic nic o un telo per godere del sole nel prato\nportatevi una borraccia d’acqua per l’escursione e qualche snack.\npotete lasciare in bus un cambio per il pomeriggio.\nvi ricordiamo che in bus è necessario viaggiare con la mascherina come da normativa Covid.\nPer qualsiasi informazione e per ogni necessità il numero utile per la giornata è 3491880402 Valentina\n\n\nPREZZO: €50 \nComprende: \n\nbus gran turismo da e per le partenze previste\nassicurazione escursionistica OUTDOOR DAILY\naccompagnatore Dolom-Eat Valentina\naccompagnatore di media montagna\n\nPossibilità di raggiungerci con mezzi propri € 30 \n\nassicurazione escursionistica OUTDOOR DAILY\naccompagnatore Dolom-Eat Valentina\naccompagnatore di media montagna\n\n\n\nNon comprende: tutto ciò non menzionato nella voce “comprende” es. pranzo. \n!! In caso di tempo incerto o instabile\, pioggia prevista mezza giornata\, 1 ora \, due ore gli eventi Dolom-Eat si terranno lo stesso. Sarà a cura della guida decidere di annullare in caso di meteo seriamente avverso il giorno precedente con il rimborso della quota. \nPreghiamo tutti i gentili clienti di non guardare il meteo se non 24 ore prima e di non fasciarsi la testa una settimana prima. Ad oggi l’affidabilità purtroppo è troppo bassa e poi… la montagna è bellissima anche con qualche goccia di pioggia. \nINFORMAZIONI IMPORTANTI : \n\ndal primo settembre è obbligatorio avere il greenpass per i mezzi di trasporto privati con conducente. Questo  verrà verificato in fase di salita nel bus dal personale preposto. Per GreenPass si intende: vaccino\, tampone o attestato di guarigione.\nper chi ci raggiunge con mezzi propri non è obbligatorio.\ni posti in bus sono assegnati\, se avete problemi di mal di pullman vi chiediamo di informarci per assegnarvi un posto nei primi sedili\ni bus possono essere riempiti all’80%\n\nIL PAGAMENTO: \n\n\n\ncon bonifico bancario DOLOM-EAT S.A.S DI CONTE VALENTINA & C.   iban : IT86F0845236130030130045168\nin agenzia solo su appuntamento  dalle 9 alle 12 e dalle 15 alle 19.30 in Via Provinciale Sud 51 – Fossò. Pagamento contanti o bancomat\nsatispay DolomEat-Eat inviando il codice di transazione\n\nPENALITA’ DI CANCELLAZIONE una volta saldata la quota:\nLe cancellazioni o le modifiche effettuate fino a 15 giorni prima della data prevista del viaggio comportano l’addebito del 50% della quota.\nLe cancellazioni o le modifiche tardive e la mancata presentazione (No-Show) comportano l’addebito dell’intero importo. \nQualora riuscissimo a “vendere” il vostro posto cancellato oltre i limiti dei 15 giorni prevediamo di restituire l’intera quota a meno di 15€ di spese di istruttoria. \n  \nOrganizzazione tecnica: \nDolom-Eat \nAgenzia di Viaggi e Tour Operator \nVia Provinciale Sud 51 – Fossò (VE) \ninfo@dolom-eat.it \n349 1880402 Valentina
URL:https://www.dolom-eat.it/evento/sorapis-dito-di-dio/
LOCATION:lago di sorapis
CATEGORIES:Evento
ATTACH;FMTTYPE=image/jpeg:https://www.dolom-eat.it/wp-content/uploads/2018/06/IMG_9249-scaled.jpeg
ORGANIZER;CN="Dolom-eat":MAILTO:info@dolom-eat.it
END:VEVENT
BEGIN:VEVENT
DTSTART;VALUE=DATE:20200911
DTEND;VALUE=DATE:20200912
DTSTAMP:20260421T105019
CREATED:20200813T171428Z
LAST-MODIFIED:20200910T071202Z
UID:6457-1599782400-1599868799@www.dolom-eat.it
SUMMARY:LAGO DI SORAPIS 11/09
DESCRIPTION:PROGRAMMA: \nPartenza da Fossò Piazza Aldo Moro ( Supermercato Alì) ore 6.00 – Mira Centro ore 6.15  – Spinea\, parcheggio passante ore 6.30 – Treviso Nord (uscita casello autostrada) ore 6.50 . Arrivo a passo tre Croci alle ore 9.30 circa. \nITINERARIO: \nSaliamo al Rifugio Vandelli partendo da Passo tre Croci\, un valico che mette in comunicazione Auronzo con Cortina. descrizione da Magico Veneto: \nSi tratta di una escursione relativamente facile\, tutto sommato poco faticosa e di grande soddisfazione.\nIl sentiero è quantomai vario e sempre ben panoramico. Il dislivello è molto contenuto\, circa 200 metri compresi i vari saliscendi\, e la lunghezza poco meno di sei chilometri.\nDetto così può sembrare cosa banale\, ma le sorprese non mancano.\nIl primo tratto è sulla stradina forestale che si dirama poco dopo il passo nel versante di Auronzo.\nBosco bellissimo\, stradina in leggerissima discesa\, bellissime vedute sulle guglie del Cristallo-Popena e\, in lontananza\, su Musurina e le Tre Cime di Lavaredo.\nDopo la languida passeggiata e il guado del ghiaione di un grande vallone\, si cammina su sentiero generalmente pianeggiante\, ma con qualche ripida rampa\, che taglia alti versanti ai piedi di impressionanti crode rocciose dalle grandiose pareti verticali.\nSegue il tratto più impegnativo.\nDopo un paio di ripide rampe il sentiero si affaccia sul profondo vallone del Rio Sorapiss. Seguono alcune scale metalliche per superare dei risalti rocciosi e poi un tratto di qualche centiaio di metri in una stretta cengia pianeggiante attrezzata con cordino metallico.\nNon vi sono vere difficoltà (e non serve il set da ferrata)\, tuttavia impressiona l’esposizione sulla quasi verticale (e profondissima) parete totalmente ricoperta da mugheti.\nServe un minimo di prudenza e concentrazione mai trattando con sufficenza e approssimazione la montagna.\nIl rifugio Vandelli è ormai a portata di mano\, il sentiero in leggera salita s’insinua tra roccioni\, radi larici e grandiose estensioni di mughi.\nDopo la meritata sosta (anche gastronomica…) al rifugio possiamo raggiungere il cangiante laghetto ed inebriarci con quella fantastica luce verde-acqua dalla ‘corposa’ densità ed ammirare l’imponente ‘Dito di Dio’. Tempo circa 2 ore. \nQui sosta per il pranzo libero al Rifugio Vandelli o al sacco (ci raccomandiamo di portare i rifiuti con sé a valle!) \nAlle ore 14.00 partiamo per scendere per il ritorno sullo stesso sentiero dell’andata. \nAlle ore 16.00 siamo in bus pronti per la parte Eat della giornata\, una merenda  in agriturismo! \nAlle ore 17.30/18 circa partiamo per rientrare \nPREZZO €55\,00 comprensivo di trasporto\, accompagnatore\, assicurazione e ricca merenda  in agriturismo! \n  \nALCUNE INFORMAZIONI: \n\nconsigliate scarpe o scarponcini da escursionismo (se avete i bastoncini da trekking\, potete portarli\, facilitano la discesa sempre).\nvestitevi a cipolla portando sia cose corte ma anche una giacca o felpa\, si passa dal caldo caldo caldo a temperature più fredde quando le nuvole coprono il sole\nportate una coperta da pic nic o un telo per godere del sole nel prato\nportatevi una borraccia d’acqua per l’escursione e qualche snack.\npotete lasciare in bus un cambio per il pomeriggio.\nvi ricordiamo che in bus è necessario viaggiare con la mascherina come da normativa Covid.\nc’è la possibilità di mangiare al Rifugio Vandelli o al sacco\, ognuno è libero ma portate qualche snack che se vi viene un attacco di fame e c’è la coda meglio essere preparati!\n\nPer qualsiasi informazione e per ogni necessità il numero utile per la giornata è 3491880402 Valentina \n  \nPRENOTAZIONI: \n\nin agenzia su appuntamento ogni mercoledì dalle 9 alle 12 e dalle 15 alle 19.30\nonline:\n\n1) inserire il numero di partecipanti nella banda rosa e cliccare prenota. \n2) Inserire i dati richiesti. \n3) Scegliere la modalità di pagamento (bonifico\, carta di credito\, satispay) \n  \n\n Le iscrizioni vanno ad esaurimento posti.\n\n\n\nSeguirà una mail di conferma quando verranno accreditate le quote. \nTermini e condizioni di vendita per eventuali disdette qui. \n  \nPer informazioni: \n349.1880402 Valentina – info@dolom-eat.it \n\n\n 
URL:https://www.dolom-eat.it/evento/lago-di-sorapis-11-09/
LOCATION:lago di sorapis
CATEGORIES:Attività,Evento
ATTACH;FMTTYPE=image/jpeg:https://www.dolom-eat.it/wp-content/uploads/2018/06/IMG_9249-scaled.jpeg
ORGANIZER;CN="Dolom-eat":MAILTO:info@dolom-eat.it
END:VEVENT
END:VCALENDAR